BEGIN:VCALENDAR
VERSION:2.0
PRODID:-//CRA-ES - ECPv6.15.20//NONSGML v1.0//EN
CALSCALE:GREGORIAN
METHOD:PUBLISH
X-ORIGINAL-URL:https://www.craes.org.br
X-WR-CALDESC:Eventos para CRA-ES
REFRESH-INTERVAL;VALUE=DURATION:PT1H
X-Robots-Tag:noindex
X-PUBLISHED-TTL:PT1H
BEGIN:VTIMEZONE
TZID:America/Sao_Paulo
BEGIN:STANDARD
TZOFFSETFROM:-0300
TZOFFSETTO:-0300
TZNAME:-03
DTSTART:20230101T000000
END:STANDARD
END:VTIMEZONE
BEGIN:VEVENT
DTSTART;TZID=America/Sao_Paulo:20240805T090000
DTEND;TZID=America/Sao_Paulo:20240805T170000
DTSTAMP:20260420T223204
CREATED:20240704T150000Z
LAST-MODIFIED:20240703T195932Z
UID:101583-1722848400-1722877200@www.craes.org.br
SUMMARY:Fórum vai debater qualidade do ensino de Administração no país
DESCRIPTION:Brasília será palco do Fórum Nacional de Qualidade do Ensino de Administração 2024. O evento tem como objetivo debater a qualidade do ensino nos cursos de administração\, especialmente na modalidade de educação a distância. 
URL:https://cfa.org.br/forum-vai-debater-qualidade-do-ensino-de-administracao-no-pais/
CATEGORIES:eventos
ATTACH;FMTTYPE=image/png:https://www.craes.org.br/wp-content/uploads/2024/07/1920X1080-SITE-E-YOUTUBE.png
END:VEVENT
BEGIN:VEVENT
DTSTART;TZID=America/Sao_Paulo:20240805T090000
DTEND;TZID=America/Sao_Paulo:20240805T170000
DTSTAMP:20260420T223204
CREATED:20240812T171850Z
LAST-MODIFIED:20240812T171951Z
UID:102629-1722848400-1722877200@www.craes.org.br
SUMMARY:Forum Qualidade do Ensino
DESCRIPTION:Nesta segunda-feira (5/8)\, a sede do Conselho Federal de Administração\, em Brasília\, foi palco da segunda edição do Fórum Nacional de Qualidade do Ensino em Administração\, realizado pelo Conselho Federal de Administração em conjunto com a Associação Nacional dos Cursos de Graduação em Administração (Angrad) e o Instituto Nacional de Estudos e Pesquisas Educacionais Anísio Teixeira (INEP/Ministério da Educação).O fórum discutiu as estratégias para melhoria contínua dos cursos que formam os futuros profissionais de Administração. Todo o evento foi realizado diretamente do plenário do Conselho Federal de Administração e teve transmissão ao vivo pelo CFAPlay\, no Youtube.
URL:https://www.craes.org.br/evento/forum-qualidade-do-ensino/
CATEGORIES:agenda,Relacionamento Institucional
ATTACH;FMTTYPE=image/png:https://www.craes.org.br/wp-content/uploads/2023/07/RELACIONAMENTO-INSTITUCIONAL-CRA-ES-01.png
END:VEVENT
BEGIN:VEVENT
DTSTART;TZID=America/Sao_Paulo:20240806T133000
DTEND;TZID=America/Sao_Paulo:20240806T133000
DTSTAMP:20260420T223204
CREATED:20240812T180513Z
LAST-MODIFIED:20240912T183901Z
UID:102632-1722951000-1722951000@www.craes.org.br
SUMMARY:CRA-ES recebe mais de 32 alunos de Técnico de Adm. do SENAI
DESCRIPTION:Palestra:  “O papel do Técnico de Adm. na Sociedade”Data: 06/08/2024\nHorário: 13h30\nLocal: CRA-ES\nRelacionado ao Curso: Técnico de Administração\nPalestrante: Adm. Antonio Caloni\n\nO CRA-ES mantém um relacionamento próximo com as instituições de ensino\, realizando visitas regulares. Nestas ocasiões\, o Conselho oferece palestras gratuitas sobre temas práticos da Administração\, facilitando a troca de informações e experiências entre os alunos e o Conselho.   Para saber mais sobre como agendar uma visita do CRA-ES ou receber uma de nossas palestras em sua instituição de ensino\, entre em contato pelo nosso WhatsApp:  2121-0500.  \n 
URL:https://www.craes.org.br/evento/o-papel-do-tec-em-adm-na-sociedade/
CATEGORIES:agenda,Relacionamento Acadêmico,Relacionamento Institucional
ATTACH;FMTTYPE=image/png:https://www.craes.org.br/wp-content/uploads/2022/03/relacionamento-acadEmico-SITE-CRA-ES.png
END:VEVENT
BEGIN:VEVENT
DTSTART;TZID=America/Sao_Paulo:20240808T080000
DTEND;TZID=America/Sao_Paulo:20240808T080000
DTSTAMP:20260420T223204
CREATED:20240812T182121Z
LAST-MODIFIED:20240813T141231Z
UID:102637-1723104000-1723104000@www.craes.org.br
SUMMARY:Alunos do EEEFM Almirante Barroso fazem visita ao CRA-ES
DESCRIPTION:Palestra:  “O papel do Técnico de Adm. na Sociedade”Data: 08/08/2024\nHorário: 08:00\nLocal: CRA-ES\nRelacionado ao Curso: Técnico de Administração\nPalestrante:  Adm. Antonio CaloniO CRA-ES mantém um relacionamento próximo com as instituições de ensino\, realizando visitas regulares. Nestas ocasiões\, o Conselho oferece palestras gratuitas sobre temas práticos da Administração\, facilitando a troca de informações e experiências entre os alunos e o Conselho.   Para saber mais sobre como agendar uma visita do CRA-ES ou receber uma de nossas palestras em sua instituição de ensino\, entre em contato pelo nosso WhatsApp:  2121-0500.
URL:https://www.craes.org.br/evento/alunos-do-eeefm-almirante-barroso-fazem-visita-ao-cra-es/
CATEGORIES:agenda,Relacionamento Acadêmico
ATTACH;FMTTYPE=image/png:https://www.craes.org.br/wp-content/uploads/2022/03/relacionamento-acadEmico-SITE-CRA-ES.png
END:VEVENT
BEGIN:VEVENT
DTSTART;TZID=America/Sao_Paulo:20240811T070000
DTEND;TZID=America/Sao_Paulo:20240811T080000
DTSTAMP:20260420T223204
CREATED:20240730T163903Z
LAST-MODIFIED:20240807T125516Z
UID:102176-1723359600-1723363200@www.craes.org.br
SUMMARY:35º ENANGRAD: prazo de submissão de artigos está aberto até 11 de agosto
DESCRIPTION:O  prazo de submissão de artigos para a 35º edição do Encontro Nacional dos Cursos de Graduação em Administração (ENANGRAD) já está aberto. Graduandos\, mestrandos\, doutorandos e professores de Administração de todo o país têm até 11 de agosto para  submeter artigos acadêmicos em treze áreas temáticas.
URL:https://www.craes.org.br/35o-enangrad-prazo-de-submissao-de-artigos-esta-aberto-ate-11-de-agosto/
CATEGORIES:Concursos, Prêmios e Artigos,eventos,Sistema CFA/CRAs
ATTACH;FMTTYPE=image/jpeg:https://www.craes.org.br/wp-content/uploads/2024/07/2024.07.18-35-ENANGRAD-prazo-submissao-artigos-abertos.jpg
END:VEVENT
BEGIN:VEVENT
DTSTART;TZID=America/Sao_Paulo:20240811T190000
DTEND;TZID=America/Sao_Paulo:20240814T090000
DTSTAMP:20260420T223204
CREATED:20240814T163602Z
LAST-MODIFIED:20240814T164730Z
UID:102887-1723402800-1723626000@www.craes.org.br
SUMMARY:Master Class: Capacitação de Consultores Online
DESCRIPTION:O curso se destina a Profissionais da Administração registrados\, ativos e em dia como CRA-ES.
URL:https://www.craes.org.br/masterclass/
CATEGORIES:Câmara Temática de Empreendedorismo e Inspiração,eventos,Mês da Administração
END:VEVENT
BEGIN:VEVENT
DTSTART;TZID=America/Sao_Paulo:20240812T190000
DTEND;TZID=America/Sao_Paulo:20240812T210000
DTSTAMP:20260420T223204
CREATED:20240812T192042Z
LAST-MODIFIED:20240812T192043Z
UID:102651-1723489200-1723496400@www.craes.org.br
SUMMARY:CRA-ES Participa da Colação de Grau do Curso de Administração na FACELI
DESCRIPTION:Data: 21/08/2024Horário: 19h Instituição: Faculdade de Ensino Superior de Linhares – FACELIAtividade: Participação da Colação de grau do alunos de administração Representante: Admª. Mauriceia DalbemPúblico Alvo: Geral
URL:https://www.craes.org.br/evento/cra-es-participa-da-colacao-de-grau-do-curso-de-administracao-na-faceli/
CATEGORIES:agenda,Relacionamento Institucional
ATTACH;FMTTYPE=image/png:https://www.craes.org.br/wp-content/uploads/2023/07/RELACIONAMENTO-INSTITUCIONAL-CRA-ES-01.png
END:VEVENT
BEGIN:VEVENT
DTSTART;TZID=America/Sao_Paulo:20240815T190000
DTEND;TZID=America/Sao_Paulo:20240815T210000
DTSTAMP:20260420T223204
CREATED:20240912T191131Z
LAST-MODIFIED:20240912T193709Z
UID:103904-1723748400-1723755600@www.craes.org.br
SUMMARY:CRA-ES Participou do XXIX Prêmio Espírito Santo de Economia
DESCRIPTION:Data: 15/08/2024Horário: 19hLocal: Cerimonial Le BuffetRepresentante: Administrador Flávio Celso Santos RosaObs.: O CRA-ES foi representado pelo presidente da Autarquia\, o Administrador Flávio Celso Santos Rosa\, e pela Conselheira Adm. Ivonete Bezerra e pelo Conselheiro Federal Adm. Manoel Carlos Rocha Lima.
URL:https://www.craes.org.br/evento/xxix-premio-espirito-santo-de-economia/
CATEGORIES:agenda,Relacionamento Institucional
ATTACH;FMTTYPE=image/png:https://www.craes.org.br/wp-content/uploads/2023/07/RELACIONAMENTO-INSTITUCIONAL-CRA-ES-01.png
END:VEVENT
BEGIN:VEVENT
DTSTART;TZID=America/Sao_Paulo:20240820T190000
DTEND;TZID=America/Sao_Paulo:20240820T203000
DTSTAMP:20260420T223204
CREATED:20240912T191537Z
LAST-MODIFIED:20240912T191538Z
UID:103906-1724180400-1724185800@www.craes.org.br
SUMMARY:ADM TALKS | Tecnologia da Informação: Um Caminho para Aceleração do seu Negócio
DESCRIPTION:Data: 20/08/2024Horário: 19hLocal: CRA-ESRepresentante: Adm. Osamu Takahata – Coord. da Câmara Temática Tecnologia da Informação
URL:https://www.craes.org.br/evento/adm-talks-tecnologia-da-informacao-um-caminho-para-aceleracao-do-seu-negocio-2/
CATEGORIES:agenda,Relacionamento Acadêmico
ATTACH;FMTTYPE=image/png:https://www.craes.org.br/wp-content/uploads/2022/03/relacionamento-acadEmico-SITE-CRA-ES.png
END:VEVENT
BEGIN:VEVENT
DTSTART;TZID=America/Sao_Paulo:20240820T190000
DTEND;TZID=America/Sao_Paulo:20240820T210000
DTSTAMP:20260420T223204
CREATED:20240729T185715Z
LAST-MODIFIED:20240807T124343Z
UID:102132-1724180400-1724187600@www.craes.org.br
SUMMARY:ADM TALKS | Tecnologia da Informação: Um Caminho para Aceleração do seu Negócio
DESCRIPTION:Participe do Adm Talks deste mês\, um encontro dedicado a profissionais e estudantes de Administração! Venha explorar as diversas possibilidades de atuação da área de Tecnologia\, em uma roda de conversa dinâmica e enriquecedora.
URL:https://www.sympla.com.br/evento/adm-talks-tecnologia-da-informacao-um-caminho-para-aceleracao-do-seu-negocio/2556893
CATEGORIES:Câmara Temática de Tecnologia da Informação,eventos
ATTACH;FMTTYPE=image/jpeg:https://www.craes.org.br/wp-content/uploads/2024/07/menorADM-Talks-tecnologia-da-informacaoSympla.jpg
END:VEVENT
BEGIN:VEVENT
DTSTART;TZID=America/Sao_Paulo:20240821T090000
DTEND;TZID=America/Sao_Paulo:20240821T100000
DTSTAMP:20260420T223204
CREATED:20240821T172145Z
LAST-MODIFIED:20240912T193538Z
UID:103041-1724230800-1724234400@www.craes.org.br
SUMMARY:CRA-ES promove relacionamento institucional com a UniCB
DESCRIPTION:Data: 21/08/2024Horário: 9h – EXTERNOInstituição: UniCB- Castelo BrancoAtividade: Visita InstitucionalObs : O CRA-ES esteve representado pelo Adm. Flávio Celso Santos Rosa e pela Admª Marcela Haase\, Coordenadora do CRA-ES Educacional. A equipe foi recebida pela Coordenadora Sulyana Comério Margotto Borghi\, pelo Pró-Reitor Administrativo Jeferson Ferreira dos Santos e pelo Pró-Reitor
URL:https://www.craes.org.br/evento/cra-es-promove-relacionamento-institucional-com-a-uni-cb/
CATEGORIES:agenda,Relacionamento Acadêmico,Relacionamento Institucional
ATTACH;FMTTYPE=image/png:https://www.craes.org.br/wp-content/uploads/2023/07/RELACIONAMENTO-INSTITUCIONAL-CRA-ES-01.png
END:VEVENT
BEGIN:VEVENT
DTSTART;TZID=America/Sao_Paulo:20240821T110000
DTEND;TZID=America/Sao_Paulo:20240821T110000
DTSTAMP:20260420T223204
CREATED:20240821T171615Z
LAST-MODIFIED:20240912T194407Z
UID:103036-1724238000-1724238000@www.craes.org.br
SUMMARY:CRA-ES Visita a Instituição da Multivix de Colatina
DESCRIPTION:Data: 21/08/2024Horário: 11h15min – EXTERNOInstituição: Multivix- ColatinaAtividade: Visita InstitucionalObs: O CRA-ES esteve representado pelo Adm. Flávio Celso Santos Rosa e pela Admª Marcela Haase\, Coordenadora do CRA-ES Educacional. A euipe foi recebida pelo Coordenador Márcio Laureth
URL:https://www.craes.org.br/evento/cra-es-visita-a-instituicao-da-multivix-de-colatina/
CATEGORIES:agenda,Relacionamento Acadêmico,Relacionamento Institucional
ATTACH;FMTTYPE=image/png:https://www.craes.org.br/wp-content/uploads/2023/07/RELACIONAMENTO-INSTITUCIONAL-CRA-ES-01.png
END:VEVENT
BEGIN:VEVENT
DTSTART;TZID=America/Sao_Paulo:20240821T140000
DTEND;TZID=America/Sao_Paulo:20240821T160000
DTSTAMP:20260420T223204
CREATED:20240821T171144Z
LAST-MODIFIED:20240912T194248Z
UID:103034-1724248800-1724256000@www.craes.org.br
SUMMARY:CRA-ES realiza visita institucional ao IFES de Colatina
DESCRIPTION:Data: 21/08/2024Horário: 12h – EXTERNOInstituição: IFES- ColatinaAtividade: Visita InstitucionalObs :  O CRA-ES esteve representado pelo Alm. Flávio Celso Santos Rosa e pela Admª Marcela Haase\, Coordenadora do CRA-ES Educacional. A equipe foi recebida pelo Coordenador Danielle Braun Calavotte Cozer e Dir. Octávio Cavalari Junior
URL:https://www.craes.org.br/evento/cra-es-realiza-visita-institucional-ao-ifes-de-colatina/
CATEGORIES:agenda,Relacionamento Acadêmico,Relacionamento Institucional
ATTACH;FMTTYPE=image/png:https://www.craes.org.br/wp-content/uploads/2023/07/RELACIONAMENTO-INSTITUCIONAL-CRA-ES-01.png
END:VEVENT
BEGIN:VEVENT
DTSTART;TZID=America/Sao_Paulo:20240821T170000
DTEND;TZID=America/Sao_Paulo:20240821T183000
DTSTAMP:20260420T223204
CREATED:20240821T172429Z
LAST-MODIFIED:20240912T194458Z
UID:103043-1724259600-1724265000@www.craes.org.br
SUMMARY:CRA-ES realiza visita institucional a UNESC de Colatina
DESCRIPTION:Data: 21/08/2024Horário: 17h – EXTERNOInstituição: UNESC- COLATINAAtividade: Visita InstitucionalObs.: O CRA-ES esteve representado pelo Adm. Flávio Celso Santos Rosa e pela Admª Marcela Haase\, Coordenadora do CRA-ES Educacional\, e o Adm. Luiz Ricardo de Souza Altoé\, Representante Institucional do CRA-ES na Região Centro Oeste. A equipe foi recebida pela Coordenadora Sulyana Comério Margotto Borghi\, pelo Pró-Reitor Administrativo Jeferson Ferreira dos Santos e pelo Pró-Reitor de Graduação Celso Luiz Sarmento.
URL:https://www.craes.org.br/evento/cra-es-realiza-visita-institucional-a-unesc-de-colatina/
CATEGORIES:agenda,Relacionamento Acadêmico,Relacionamento Institucional
ATTACH;FMTTYPE=image/png:https://www.craes.org.br/wp-content/uploads/2023/07/RELACIONAMENTO-INSTITUCIONAL-CRA-ES-01.png
END:VEVENT
BEGIN:VEVENT
DTSTART;TZID=America/Sao_Paulo:20240821T190000
DTEND;TZID=America/Sao_Paulo:20240821T203000
DTSTAMP:20260420T223204
CREATED:20240912T194927Z
LAST-MODIFIED:20240912T194928Z
UID:103917-1724266800-1724272200@www.craes.org.br
SUMMARY:CRA-ES Participa de Colação e Entrega de CIP na FACELI- Linhares
DESCRIPTION:Data: 21/08/2024Horário: 19h – EXTERNOInstituição: FACELI- LinharesAtividade: Visita InstitucionalObs :  Representante do CRA-ES\, a Admª. Mauriceia Dalbem
URL:https://www.craes.org.br/evento/cra-es-participa-de-colacao-e-entrega-de-cip-na-faceli-linhares/
CATEGORIES:agenda,Relacionamento Acadêmico
ATTACH;FMTTYPE=image/png:https://www.craes.org.br/wp-content/uploads/2022/03/relacionamento-acadEmico-SITE-CRA-ES.png
END:VEVENT
BEGIN:VEVENT
DTSTART;TZID=America/Sao_Paulo:20240823T190000
DTEND;TZID=America/Sao_Paulo:20240823T210000
DTSTAMP:20260420T223204
CREATED:20240812T184352Z
LAST-MODIFIED:20240912T195339Z
UID:102641-1724439600-1724446800@www.craes.org.br
SUMMARY:Capacitação de Consultores Aprendizes
DESCRIPTION:Data: 23/08/2024Horário: 19h – ONLINERepresentante: Adm. Glaucio Siqueira – Coord. da Câmara Temática Empreendedorismo e Inspiração Obs : A Câmara de Empreendedorismo do CRA-ES receberá estudantes dos últimos períodos dos cursos de Administração como Consultores Aprendizes no projeto Clínica de Negócios. Esta nova fase proporciona aos alunos das IES PARCEIRAS uma valiosa experiência prática em consultoria empresarial\, permitindo que participem de um modelo consolidado e gratuito que conecta micro e pequenas empresas com profissionais voluntários.
URL:https://www.craes.org.br/evento/capacitacao-de-consultores-aprendizes-2/
CATEGORIES:agenda,Relacionamento Institucional
ATTACH;FMTTYPE=image/png:https://www.craes.org.br/wp-content/uploads/2023/07/RELACIONAMENTO-INSTITUCIONAL-CRA-ES-01.png
END:VEVENT
BEGIN:VEVENT
DTSTART;TZID=America/Sao_Paulo:20240824T080000
DTEND;TZID=America/Sao_Paulo:20240824T080000
DTSTAMP:20260420T223204
CREATED:20240812T185309Z
LAST-MODIFIED:20240912T195500Z
UID:102647-1724486400-1724486400@www.craes.org.br
SUMMARY:Capacitação de Consultores Aprendizes
DESCRIPTION:Data: 24/08/2024Horário: 8h – ONLINEInstituição: CRA-ESAtividade: Capacitação Palestrante: Adm. Glaucio Siqueira\, Coordenador da câmara temática de empreendedorismo e InspiraçãoObs.: A Câmara de Empreendedorismo do CRA-ES receberá estudantes dos últimos períodos dos cursos de Administração como Consultores Aprendizes no projeto Clínica de Negócios. Esta nova fase proporciona aos alunos das IES PARCEIRAS uma valiosa experiência prática em consultoria empresarial\, permitindo que participem de um modelo consolidado e gratuito que conecta micro e pequenas empresas com profissionais voluntários.
URL:https://www.craes.org.br/evento/capacitacao-de-consultores-aprendizes-3/
CATEGORIES:agenda,Relacionamento Acadêmico,Relacionamento Institucional
ATTACH;FMTTYPE=image/png:https://www.craes.org.br/wp-content/uploads/2023/07/RELACIONAMENTO-INSTITUCIONAL-CRA-ES-01.png
END:VEVENT
BEGIN:VEVENT
DTSTART;TZID=America/Sao_Paulo:20240826T133000
DTEND;TZID=America/Sao_Paulo:20240826T143000
DTSTAMP:20260420T223204
CREATED:20240905T173433Z
LAST-MODIFIED:20240912T195753Z
UID:103715-1724679000-1724682600@www.craes.org.br
SUMMARY:CRA-ES Visita CEEFMTI Nair Miranda
DESCRIPTION:No dia 26 de agosto\, às 13h30\, o CRA-ES será representado pelo Adm. Rodrigo Federman no evento de apresentação dos projetos da turma do Curso Técnico em Administração da CEEFMTI Nair Miranda. A presença do CRA-ES destaca o Relacionamento Institucional e Acadêmico.
URL:https://www.craes.org.br/evento/cra-es-visita-ceefmti-nair-miranda/
CATEGORIES:agenda,Relacionamento Acadêmico
ATTACH;FMTTYPE=image/png:https://www.craes.org.br/wp-content/uploads/2022/03/relacionamento-acadEmico-SITE-CRA-ES.png
END:VEVENT
BEGIN:VEVENT
DTSTART;TZID=America/Sao_Paulo:20240831T190000
DTEND;TZID=America/Sao_Paulo:20240831T203000
DTSTAMP:20260420T223204
CREATED:20240916T182046Z
LAST-MODIFIED:20240916T182047Z
UID:104054-1725130800-1725136200@www.craes.org.br
SUMMARY:Celebração do Mês do Corretor de Imóveis
DESCRIPTION:Tema: Celebração do Mês do Corretor de ImóveisData: 31/08/2024Horário: 19hLocal: CRECIRepresentante: Dir. Reg/Fisc Adjunto: Adm. Luciano ForrechiA participação do CRA-ES reforça seu compromisso com o relacionamento institucional junto a outros conselhos. O evento será realizado na Ilha Buffet\, na Av. Marechal Mascarenhas de Moraes\, 2100\, Bento Ferreira\, Vitória/ES\, e contará com homenagens e a entrega de Colibris aos profissionais que se destacaram ao longo do ano.
URL:https://www.craes.org.br/evento/celebracao-do-mes-do-corretor-de-imoveis/
CATEGORIES:agenda,Relacionamento Institucional
ATTACH;FMTTYPE=image/png:https://www.craes.org.br/wp-content/uploads/2023/07/RELACIONAMENTO-INSTITUCIONAL-CRA-ES-01.png
END:VEVENT
END:VCALENDAR