BEGIN:VCALENDAR
VERSION:2.0
PRODID:-//CRA-ES - ECPv6.15.20//NONSGML v1.0//EN
CALSCALE:GREGORIAN
METHOD:PUBLISH
X-WR-CALNAME:CRA-ES
X-ORIGINAL-URL:https://www.craes.org.br
X-WR-CALDESC:Eventos para CRA-ES
REFRESH-INTERVAL;VALUE=DURATION:PT1H
X-Robots-Tag:noindex
X-PUBLISHED-TTL:PT1H
BEGIN:VTIMEZONE
TZID:America/Sao_Paulo
BEGIN:STANDARD
TZOFFSETFROM:-0300
TZOFFSETTO:-0300
TZNAME:-03
DTSTART:20230101T000000
END:STANDARD
END:VTIMEZONE
BEGIN:VEVENT
DTSTART;TZID=America/Sao_Paulo:20240901T183000
DTEND;TZID=America/Sao_Paulo:20240919T235959
DTSTAMP:20260420T183517
CREATED:20240814T180125Z
LAST-MODIFIED:20240924T112533Z
UID:102903-1725215400-1726790399@www.craes.org.br
SUMMARY:Mês da Administração
DESCRIPTION:Setembro\, mês de comemorações! O Dia do profissional da Administração é comemorado em 09 de setembro. 
URL:https://www.craes.org.br/mes-adm/
CATEGORIES:eventos
ATTACH;FMTTYPE=image/png:https://www.craes.org.br/wp-content/uploads/2024/08/Site.png
END:VEVENT
BEGIN:VEVENT
DTSTART;TZID=America/Sao_Paulo:20240903T140000
DTEND;TZID=America/Sao_Paulo:20240903T153000
DTSTAMP:20260420T183517
CREATED:20240913T161613Z
LAST-MODIFIED:20240913T161614Z
UID:104027-1725372000-1725377400@www.craes.org.br
SUMMARY:CRA-ES Recebe Visita do SINEPE
DESCRIPTION:Tema: Reunião para fortalecimento de parceria e futuros projetosData: 03/09/2024Horário: 14hLocal: CRA-ES | SINEPERepresentante: Presidente: Adm. Flávio Celso Santos RosaObs.: Participaram: Adm. Pedro Prêmoli\, Adm. Marcela Haase\, Adm. Rodrigo Federman\, Moacir Lellis (SINEPE)\, Priscila Modollo (SINEPE)
URL:https://www.craes.org.br/evento/cra-es-recebe-visita-do-sinepe/
CATEGORIES:agenda,Relacionamento Institucional
ATTACH;FMTTYPE=image/png:https://www.craes.org.br/wp-content/uploads/2023/07/RELACIONAMENTO-INSTITUCIONAL-CRA-ES-01.png
END:VEVENT
BEGIN:VEVENT
DTSTART;TZID=America/Sao_Paulo:20240904T080000
DTEND;TZID=America/Sao_Paulo:20240904T170000
DTSTAMP:20260420T183517
CREATED:20240904T195700Z
LAST-MODIFIED:20240904T195702Z
UID:103658-1725436800-1725469200@www.craes.org.br
SUMMARY:CRA-ES Visita Castelo Branco- Colatina
DESCRIPTION:Tema: O Mercado de Trabalho para o Profissional da AdministraçãoData: 19/09/2024Horário: 9h15 às 20h30Local:  Castelo Branco- ColatinaRelacionado ao Curso: Alunos curso de Adm Obs.: CRA EducacionalRepresentante: Adm. Luiz Altoé
URL:https://www.craes.org.br/evento/cra-es-visita-castelo-branco-colatina-2/
CATEGORIES:agenda,Relacionamento Acadêmico
ATTACH;FMTTYPE=image/png:https://www.craes.org.br/wp-content/uploads/2022/03/relacionamento-acadEmico-SITE-CRA-ES.png
END:VEVENT
BEGIN:VEVENT
DTSTART;TZID=America/Sao_Paulo:20240904T190000
DTEND;TZID=America/Sao_Paulo:20240904T203000
DTSTAMP:20260420T183517
CREATED:20240903T140900Z
LAST-MODIFIED:20240903T141327Z
UID:103443-1725476400-1725481800@www.craes.org.br
SUMMARY:Adm Talks - Multivix São Mateus:
DESCRIPTION:Adm Talks – Multivix São Mateus: Profissional do Futuro: Inovação e Transformação Digital
URL:https://www.sympla.com.br/cra-es--adm-talks---profissional-do-futuro-inovacao-e-transformacao-digital__2604668?token=60bba2ba67b1a8a207b9d92e6710c2ae#new_tab
CATEGORIES:eventos,Mês da Administração - Palestra nas IES
ATTACH;FMTTYPE=image/jpeg:https://www.craes.org.br/wp-content/uploads/2024/09/2024.09.04-ADM-TALKS-CRA-ES-MULTIVIX-SAO-M.jpg
END:VEVENT
BEGIN:VEVENT
DTSTART;TZID=America/Sao_Paulo:20240904T190000
DTEND;TZID=America/Sao_Paulo:20240904T210000
DTSTAMP:20260420T183517
CREATED:20240904T185036Z
LAST-MODIFIED:20240913T195939Z
UID:103641-1725476400-1725483600@www.craes.org.br
SUMMARY:Adm Talks: Profissional do Futuro: Inovação e Transformação Digital | Multivix - São Mateus
DESCRIPTION:Tema: Adm Talks: Profissional do Futuro: Inovação e Transformação Digital | Comemoração aos 59 anos da AdministraçãoData: 04/09/2024Horário: 19hLocal: Multivix – São MateusRepresentante: Cons. Federal Suplente: Adm. Robson B. Neves e Vice Presidente Erthelvio
URL:https://www.craes.org.br/evento/cra-es-visita-multivix-sao-mateus/
CATEGORIES:agenda,Relacionamento Acadêmico
ATTACH;FMTTYPE=image/png:https://www.craes.org.br/wp-content/uploads/2022/03/relacionamento-acadEmico-SITE-CRA-ES.png
END:VEVENT
BEGIN:VEVENT
DTSTART;TZID=America/Sao_Paulo:20240905T080000
DTEND;TZID=America/Sao_Paulo:20240905T170000
DTSTAMP:20260420T183517
CREATED:20240905T165510Z
LAST-MODIFIED:20240905T165511Z
UID:103693-1725523200-1725555600@www.craes.org.br
SUMMARY:CRA-ES Visita Multivix - Nova Venécia
DESCRIPTION:Tema: Profissional do Futuro: Inovação e Transformação DigitalData: 01/10/2024Horário: 19hLocal: Multivix – Nova Venécia Relacionado ao Curso: Alunos curso de AdmObs.: CRA EducacionalRepresentante: Adm. Nadieli Menegussi
URL:https://www.craes.org.br/evento/cra-es-visita-multivix-nova-venecia/
CATEGORIES:agenda,Relacionamento Acadêmico
ATTACH;FMTTYPE=image/png:https://www.craes.org.br/wp-content/uploads/2022/03/relacionamento-acadEmico-SITE-CRA-ES.png
END:VEVENT
BEGIN:VEVENT
DTSTART;TZID=America/Sao_Paulo:20240905T190000
DTEND;TZID=America/Sao_Paulo:20240905T200000
DTSTAMP:20260420T183517
CREATED:20240904T192613Z
LAST-MODIFIED:20240913T143345Z
UID:103647-1725562800-1725566400@www.craes.org.br
SUMMARY:Adm Talks: Gestão Estratégica e Inovação em Tempos de Mudança | FAACZ - Aracruz
DESCRIPTION:Tema: Adm Talks: Gestão Estratégica e Inovação em Tempos de Mudança | Comemoração aos 59 anos da AdministraçãoData: 05/09/2024Horário: 19hLocal: CRA-ES Visita FAACZ – AracruzRepresentante: Adm. Wendel Miquele de Almeida – Vice-coordenador da Câmara Temática Empreendedorismo e Inspiração.
URL:https://www.craes.org.br/evento/cra-es-visita-faacz-aracruz/
CATEGORIES:agenda,Relacionamento Acadêmico
END:VEVENT
BEGIN:VEVENT
DTSTART;TZID=America/Sao_Paulo:20240905T190000
DTEND;TZID=America/Sao_Paulo:20240905T210000
DTSTAMP:20260420T183517
CREATED:20240903T192327Z
LAST-MODIFIED:20240909T165400Z
UID:103467-1725562800-1725570000@www.craes.org.br
SUMMARY:Adm Talks - FAACZ de Aracruz
DESCRIPTION:Adm Talks – FACAAZ de Aracruz: Gestão Estratégica e Inovação em Tempos de Mudança
URL:https://www.craes.org.br/evento/adm-talks-multivix-de-sao-mateus/
CATEGORIES:eventos,Mês da Administração - Palestra nas IES
ATTACH;FMTTYPE=image/png:https://www.craes.org.br/wp-content/uploads/2024/09/2024.09.05-FAACZ-CRA-ES.png
END:VEVENT
BEGIN:VEVENT
DTSTART;TZID=America/Sao_Paulo:20240909T080000
DTEND;TZID=America/Sao_Paulo:20240909T170000
DTSTAMP:20260420T183517
CREATED:20240904T193244Z
LAST-MODIFIED:20240913T143855Z
UID:103649-1725868800-1725901200@www.craes.org.br
SUMMARY:Adm Talks: Gestão Estratégica e Inovação em Tempos de Mudança | ESFA (On-line)
DESCRIPTION:Tema: Adm Talks: Gestão Estratégica e Inovação em Tempos de Mudança | Comemoração aos 59 anos da AdministraçãoData: 09/09/2024Horário: 19hLocal: CRA-ES Visita ESFA – Santa Teresa (On-line)Representante: Adm. Wendel Miquele de Almeida – Vice-coordenador da Câmara Temática Empreendedorismo e Inspiração.
URL:https://www.craes.org.br/evento/cra-es-promove-palestra-no-esfa-on-line/
CATEGORIES:agenda,Relacionamento Acadêmico
ATTACH;FMTTYPE=image/png:https://www.craes.org.br/wp-content/uploads/2022/03/relacionamento-acadEmico-SITE-CRA-ES.png
END:VEVENT
BEGIN:VEVENT
DTSTART;TZID=America/Sao_Paulo:20240909T153000
DTEND;TZID=America/Sao_Paulo:20240909T163000
DTSTAMP:20260420T183517
CREATED:20240904T190148Z
LAST-MODIFIED:20240904T190149Z
UID:103645-1725895800-1725899400@www.craes.org.br
SUMMARY:CRA-ES Visita EEEFM Theodomiro Ribeiro Coelho
DESCRIPTION:Tema: Profissional do Futuro: Inovação e Transformação DigitalData: 09/09/2024Horário: 15h30minLocal: EEEFM Theodomiro Ribeiro CoelhoRelacionado ao Curso: Alunos curso técnico de Adm e RHObs.: CRA EducacionalRepresentante: Adm. Antonio Caloni
URL:https://www.craes.org.br/evento/cra-es-visita-eeefm-theodomiro-ribeiro-coelho/
CATEGORIES:agenda,Relacionamento Acadêmico
ATTACH;FMTTYPE=image/png:https://www.craes.org.br/wp-content/uploads/2022/03/relacionamento-acadEmico-SITE-CRA-ES.png
END:VEVENT
BEGIN:VEVENT
DTSTART;TZID=America/Sao_Paulo:20240909T190000
DTEND;TZID=America/Sao_Paulo:20240909T210000
DTSTAMP:20260420T183517
CREATED:20240903T195309Z
LAST-MODIFIED:20240909T165445Z
UID:103473-1725908400-1725915600@www.craes.org.br
SUMMARY:Adm Talks - ESFA de Santa Teresa (online)
DESCRIPTION:Adm Talks – ESFA – Santa Teresa: Gestão Estratégica e Inovação em Tempos de Mudança
URL:https://www.craes.org.br/evento/adm-talks-esfa-de-santa-teresa-online/
CATEGORIES:eventos,Mês da Administração - Palestra nas IES
ATTACH;FMTTYPE=image/jpeg:https://www.craes.org.br/wp-content/uploads/2024/09/Slide3.jpg
END:VEVENT
BEGIN:VEVENT
DTSTART;TZID=America/Sao_Paulo:20240911T090000
DTEND;TZID=America/Sao_Paulo:20240914T190000
DTSTAMP:20260420T183517
CREATED:20240814T171204Z
LAST-MODIFIED:20240827T164947Z
UID:102890-1726045200-1726340400@www.craes.org.br
SUMMARY:Master Class: Capacitação de Consultores Online
DESCRIPTION:O curso se destina a Profissionais da Administração registrados\, ativos e em dia como CRA-ES.
URL:https://www.craes.org.br/masterclass/#new_tab
CATEGORIES:Câmara Temática de Empreendedorismo e Inspiração,eventos,Mês da Administração
ATTACH;FMTTYPE=image/png:https://www.craes.org.br/wp-content/uploads/2024/08/Site-1.png
END:VEVENT
BEGIN:VEVENT
DTSTART;TZID=America/Sao_Paulo:20240911T190000
DTEND;TZID=America/Sao_Paulo:20240914T090000
DTSTAMP:20260420T183517
CREATED:20240913T162158Z
LAST-MODIFIED:20240913T162158Z
UID:104029-1726081200-1726304400@www.craes.org.br
SUMMARY:Formação de Consultores (Clínica de Negócios)
DESCRIPTION:Tema: Formação de Consultores (Clínica de Negócios)Data: 11/09/2004 a 14/09/2024Horário: 19h às 21h30 | 09h às 17hLocal: CRA-ES – ONLINERepresentante:Adm. Glaucio Siqueira – Coord. da Câmara Temática Empreendedorismo e Inspiração
URL:https://www.craes.org.br/evento/formacao-de-consultores-clinica-de-negocios/
CATEGORIES:agenda,Relacionamento Institucional
ATTACH;FMTTYPE=image/png:https://www.craes.org.br/wp-content/uploads/2023/07/RELACIONAMENTO-INSTITUCIONAL-CRA-ES-01.png
END:VEVENT
BEGIN:VEVENT
DTSTART;TZID=America/Sao_Paulo:20240912T080000
DTEND;TZID=America/Sao_Paulo:20240912T170000
DTSTAMP:20260420T183517
CREATED:20240912T194041Z
LAST-MODIFIED:20240912T194042Z
UID:103908-1726128000-1726160400@www.craes.org.br
SUMMARY:CRA-ES promove relacionamento institucional com a UNESC
DESCRIPTION:Data: 20/08/2024Horário: 9h – EXTERNOInstituição: UNESC- ColatinaAtividade: Visita InstitucionalObs : O CRA-ES esteve representado pelo Adm. Flávio Celso Santos Rosa e pela Admª Marcela Haase\, Coordenadora do CRA-ES Educacional\, e o Adm. Luiz Ricardo de Souza Altoé\, Representante Institucional do CRA-ES na Região Centro Oeste. A equipe foi recebida pela Coordenadora Sulyana Comério Margotto Borghi\, pelo Pró-Reitor Administrativo Jeferson Ferreira dos Santos e pelo Pró-Reitor de Graduação Celso Luiz Sarmento.
URL:https://www.craes.org.br/evento/cra-es-promove-relacionamento-institucional-com-a-unesc/
CATEGORIES:agenda,Relacionamento Acadêmico
ATTACH;FMTTYPE=image/png:https://www.craes.org.br/wp-content/uploads/2022/03/relacionamento-acadEmico-SITE-CRA-ES.png
END:VEVENT
BEGIN:VEVENT
DTSTART;TZID=America/Sao_Paulo:20240912T090000
DTEND;TZID=America/Sao_Paulo:20240912T100000
DTSTAMP:20260420T183517
CREATED:20240905T171811Z
LAST-MODIFIED:20240905T171936Z
UID:103702-1726131600-1726135200@www.craes.org.br
SUMMARY:CRA-ES Recebe Visita da Escola de Grau Técnico
DESCRIPTION:Tema: O papel do técnico em Adm. na SociedadeData: 12/09/2024Horário: 9hLocal: CRA-ES Relacionado ao Curso: Escola Grau TécnicoObs.: CRA EducacionalRepresentante: Adm. Antonio Caloni
URL:https://www.craes.org.br/evento/cra-es-recebe-visita-da-escola-de-grau-tecnico/
CATEGORIES:agenda,Relacionamento Acadêmico
ATTACH;FMTTYPE=image/png:https://www.craes.org.br/wp-content/uploads/2022/03/relacionamento-acadEmico-SITE-CRA-ES.png
END:VEVENT
BEGIN:VEVENT
DTSTART;TZID=America/Sao_Paulo:20240914T080000
DTEND;TZID=America/Sao_Paulo:20240914T080000
DTSTAMP:20260420T183517
CREATED:20240814T174142Z
LAST-MODIFIED:20240925T135455Z
UID:102897-1726300800-1726300800@www.craes.org.br
SUMMARY:Curso para Formação de Educadores e Planejadores Financeiros
DESCRIPTION:Prepare-se para uma imersão prática e enriquecedora no universo das finanças pessoais. Uma oportunidade para aprimorar suas habilidades e conhecimentos em gestão financeira de forma holística e eficiente. Confira um pouquinho do que será abordado:
URL:https://www.craes.org.br/curso-financas/#new_tab
CATEGORIES:Câmara Temática de Educação e Administração Financeira,eventos,Mês da Administração
ATTACH;FMTTYPE=image/png:https://www.craes.org.br/wp-content/uploads/2024/08/Site-copiar.png
END:VEVENT
BEGIN:VEVENT
DTSTART;TZID=America/Sao_Paulo:20240916T190000
DTEND;TZID=America/Sao_Paulo:20240916T203000
DTSTAMP:20260420T183517
CREATED:20240913T163541Z
LAST-MODIFIED:20240913T163542Z
UID:104035-1726513200-1726518600@www.craes.org.br
SUMMARY:CRA-ES Visita IFES - Venda Nova do Imigrante
DESCRIPTION:Tema: Novos Desafios da GestãoData: 16/09/2024Horário: 19hLocal: IFES – Venda Nova do ImigranteRepresentante: Adm. Glaucio Siqueira – Coord. da Câmara Temática Empreendedorismo e Inspiração
URL:https://www.craes.org.br/evento/cra-es-visita-ifes-venda-nova-do-imigrante/
CATEGORIES:agenda,Relacionamento Acadêmico
ATTACH;FMTTYPE=image/png:https://www.craes.org.br/wp-content/uploads/2022/03/relacionamento-acadEmico-SITE-CRA-ES.png
END:VEVENT
BEGIN:VEVENT
DTSTART;TZID=America/Sao_Paulo:20240917T190000
DTEND;TZID=America/Sao_Paulo:20240917T200000
DTSTAMP:20260420T183517
CREATED:20240904T193647Z
LAST-MODIFIED:20240913T144226Z
UID:103651-1726599600-1726603200@www.craes.org.br
SUMMARY:Adm Talks: Além dos Números: Conexões Estratégicas | Faveni- Venda Nova Imigrante
DESCRIPTION:Tema: Adm Talks: Além dos Números: Conexões Estratégicas | Comemoração aos 59 anos da AdministraçãoData: 17/09/2024Horário: 19hLocal: Faveni – Venda Nova ImigranteRelacionado ao Curso: Alunos curso de Adm Obs.: CRA EducacionalRepresentante: Cons.: Adm. Leanderson Cordeiro dos Santos\, RI e Coord. da Câmara Temática Perícia e Administração Judicial
URL:https://www.craes.org.br/evento/cra-es-visita-faveni-venda-nova-imigrante/
CATEGORIES:agenda,Relacionamento Acadêmico
ATTACH;FMTTYPE=image/png:https://www.craes.org.br/wp-content/uploads/2022/03/relacionamento-acadEmico-SITE-CRA-ES.png
END:VEVENT
BEGIN:VEVENT
DTSTART;TZID=America/Sao_Paulo:20240917T190000
DTEND;TZID=America/Sao_Paulo:20240917T210000
DTSTAMP:20260420T183517
CREATED:20240903T200305Z
LAST-MODIFIED:20240909T164816Z
UID:103477-1726599600-1726606800@www.craes.org.br
SUMMARY:Adm Talks - Faveni– Venda Nova Imigrante
DESCRIPTION:Adm Talks – Além dos Números: Conexões Estratégicas
URL:https://www.craes.org.br/evento/adm-talks-faveni-venda-nova-imigrante/
CATEGORIES:eventos,Mês da Administração - Palestra nas IES
ATTACH;FMTTYPE=image/jpeg:https://www.craes.org.br/wp-content/uploads/2024/09/Slide4.jpg
END:VEVENT
BEGIN:VEVENT
DTSTART;TZID=America/Sao_Paulo:20240918T193000
DTEND;TZID=America/Sao_Paulo:20240918T210000
DTSTAMP:20260420T183517
CREATED:20240904T162159Z
LAST-MODIFIED:20240909T164846Z
UID:103582-1726687800-1726693200@www.craes.org.br
SUMMARY:CRA-ES | ADM TALKS – Unopar - Cachoeiro de Itapemirim
DESCRIPTION:CRA-ES | ADM TALKS – O desafio na gestão de talentos nas organizações
URL:https://www.craes.org.br/evento/cra-es-adm-talks-unopar-cachoeiro-de-itapemirim/
CATEGORIES:eventos,Mês da Administração - Palestra nas IES
ATTACH;FMTTYPE=image/jpeg:https://www.craes.org.br/wp-content/uploads/2024/09/Slide6.jpg
END:VEVENT
BEGIN:VEVENT
DTSTART;TZID=America/Sao_Paulo:20240919T091500
DTEND;TZID=America/Sao_Paulo:20240919T203000
DTSTAMP:20260420T183517
CREATED:20240904T194552Z
LAST-MODIFIED:20240913T145248Z
UID:103656-1726737300-1726777800@www.craes.org.br
SUMMARY:Adm Talks: O Mercado de Trabalho para o Profissional da Administração | Castelo Branco- Colatina
DESCRIPTION:Tema: Adm Talks: O Mercado de Trabalho para o Profissional da Administração | Comemoração aos 59 anos da AdministraçãoData: 19/09/2024Horário: 9h15 às 20h30Local: Castelo Branco- ColatinaRepresentante: R.I: Adm. Luiz Ricardo de Souza Altoé
URL:https://www.craes.org.br/evento/cra-es-visita-castelo-branco-colatina/
CATEGORIES:agenda,Relacionamento Acadêmico
ATTACH;FMTTYPE=image/png:https://www.craes.org.br/wp-content/uploads/2022/03/relacionamento-acadEmico-SITE-CRA-ES.png
END:VEVENT
BEGIN:VEVENT
DTSTART;TZID=America/Sao_Paulo:20240919T143000
DTEND;TZID=America/Sao_Paulo:20240925T143000
DTSTAMP:20260420T183517
CREATED:20240913T164316Z
LAST-MODIFIED:20240913T165557Z
UID:104039-1726756200-1727274600@www.craes.org.br
SUMMARY:CRA-ES Visita EEEFM José Veiga da Silva - Marataízes
DESCRIPTION:Tema: Palestra: Papel do Técnico na SociedadeData: 19 e 25/09/2024Horário: 14h30Local: EEEFM José Veiga da Silva – MarataízesRepresentante: Adm. Antonio Caloni
URL:https://www.craes.org.br/evento/cra-es-visita-eeefm-jose-veiga-da-silva-marataizes/
CATEGORIES:agenda,Relacionamento Acadêmico
ATTACH;FMTTYPE=image/png:https://www.craes.org.br/wp-content/uploads/2022/03/relacionamento-acadEmico-SITE-CRA-ES.png
END:VEVENT
BEGIN:VEVENT
DTSTART;TZID=America/Sao_Paulo:20240919T190000
DTEND;TZID=America/Sao_Paulo:20240919T200000
DTSTAMP:20260420T183517
CREATED:20240904T194125Z
LAST-MODIFIED:20240913T144916Z
UID:103654-1726772400-1726776000@www.craes.org.br
SUMMARY:Adm Talks: O Desafio na Gestão de Talentos nas Organizações | Cachoeiro de Itapemirim
DESCRIPTION:Tema: Adm Talks: O Desafio na Gestão de Talentos nas Organizações | Comemoração aos 59 anos da AdministraçãoData: 19/09/2024Horário: 19hLocal: São Camilo – Cachoeiro de ItapemirimRepresentante: R.I: Tecgo. Deidiney Santanna Peçanha
URL:https://www.craes.org.br/evento/cra-es-visita-sao-camilo-cachoeiro-de-itapemirim/
CATEGORIES:agenda,Relacionamento Acadêmico
ATTACH;FMTTYPE=image/png:https://www.craes.org.br/wp-content/uploads/2022/03/relacionamento-acadEmico-SITE-CRA-ES.png
END:VEVENT
BEGIN:VEVENT
DTSTART;TZID=America/Sao_Paulo:20240919T190000
DTEND;TZID=America/Sao_Paulo:20240919T203000
DTSTAMP:20260420T183517
CREATED:20240814T174621Z
LAST-MODIFIED:20240830T185807Z
UID:102899-1726772400-1726777800@www.craes.org.br
SUMMARY:Palestra: Benefícios e uso da Inteligência Artificial na Administração de Marketing
DESCRIPTION:O CRA-ES\, por meio da sua Câmara Temática de Marketing e Inovação\, convida você para participar da palestra “Benefícios e uso da Inteligência Artificial na Administração de Marketing” e compartilhar conhecimentos\, informações a todos que utilizam e pretendem utilizar essa importante ferramenta no seu dia a dia profissional.
URL:https://www.sympla.com.br/evento/palestra-beneficios-e-uso-da-inteligencia-artificial-na-administracao-de-marketing/2596273#new_tab
CATEGORIES:Câmara Temática de Marketing e Inovação,eventos,Mês da Administração
ATTACH;FMTTYPE=image/jpeg:https://www.craes.org.br/wp-content/uploads/2024/08/palestra-henrique-psdSite-copiar.jpg
END:VEVENT
BEGIN:VEVENT
DTSTART;TZID=America/Sao_Paulo:20240919T190000
DTEND;TZID=America/Sao_Paulo:20240919T203000
DTSTAMP:20260420T183517
CREATED:20240913T162956Z
LAST-MODIFIED:20240913T162957Z
UID:104033-1726772400-1726777800@www.craes.org.br
SUMMARY:Benefícios do Uso da IA na Administração do Marketing
DESCRIPTION:Tema: Benefícios do Uso da IA na Administração do MarketingData: 19/09/2024Horário: 19hLocal: CRA-ESRepresentante: Mestre Henrique Hamerski – Coord. da Câmara temática Marketing e Inovação
URL:https://www.craes.org.br/evento/beneficios-do-uso-da-ia-na-administracao-do-marketing/
CATEGORIES:agenda,Relacionamento Institucional
ATTACH;FMTTYPE=image/png:https://www.craes.org.br/wp-content/uploads/2023/07/RELACIONAMENTO-INSTITUCIONAL-CRA-ES-01.png
END:VEVENT
BEGIN:VEVENT
DTSTART;TZID=America/Sao_Paulo:20240919T190000
DTEND;TZID=America/Sao_Paulo:20240919T210000
DTSTAMP:20260420T183517
CREATED:20240904T163717Z
LAST-MODIFIED:20240909T164632Z
UID:103602-1726772400-1726779600@www.craes.org.br
SUMMARY:CRA-ES | ADM TALKS – São Camilo– Cachoeiro de Itapemirim
DESCRIPTION:CRA-ES | ADM TALKS – O desafio na gestão de talentos nas organizações
URL:https://www.craes.org.br/evento/cra-es-adm-talks-sao-camilo-cachoeiro-de-itapemirim/
CATEGORIES:eventos,Mês da Administração - Palestra nas IES
ATTACH;FMTTYPE=image/jpeg:https://www.craes.org.br/wp-content/uploads/2024/09/Slide7.jpg
END:VEVENT
BEGIN:VEVENT
DTSTART;TZID=America/Sao_Paulo:20240919T191500
DTEND;TZID=America/Sao_Paulo:20240919T210000
DTSTAMP:20260420T183517
CREATED:20240904T165336Z
LAST-MODIFIED:20240909T164420Z
UID:103627-1726773300-1726779600@www.craes.org.br
SUMMARY:CRA-ES | ADM TALKS – Castelo Branco – Colatina (Presencial)
DESCRIPTION:ADM TALKS – O Mercado de Trabalho para o Profissional da Administração
URL:https://www.craes.org.br/evento/cra-es-adm-talks-castelo-branco-colatina-presencial/
CATEGORIES:eventos,Mês da Administração - Palestra nas IES
ATTACH;FMTTYPE=image/jpeg:https://www.craes.org.br/wp-content/uploads/2024/09/Slide8.jpg
END:VEVENT
BEGIN:VEVENT
DTSTART;TZID=America/Sao_Paulo:20240922T201500
DTEND;TZID=America/Sao_Paulo:20240922T210000
DTSTAMP:20260420T183517
CREATED:20240905T171001Z
LAST-MODIFIED:20240905T171002Z
UID:103695-1727036100-1727038800@www.craes.org.br
SUMMARY:CRA-ES Visita Ifes- Colatina
DESCRIPTION:Tema: Integrando gerações X\, Y\, Z e Alpha nos processos de inovaçãoData: 22/10/2024Horário: 20h15Local: Ifes – ColatinaRelacionado ao Curso: Alunos curso de AdmObs.: CRA EducacionalRepresentante: Adm. Glaucio Siqueira
URL:https://www.craes.org.br/evento/cra-es-visita-ifes-colatina/
CATEGORIES:agenda,Relacionamento Acadêmico
ATTACH;FMTTYPE=image/png:https://www.craes.org.br/wp-content/uploads/2022/03/relacionamento-acadEmico-SITE-CRA-ES.png
END:VEVENT
BEGIN:VEVENT
DTSTART;TZID=America/Sao_Paulo:20240923T190000
DTEND;TZID=America/Sao_Paulo:20240923T203000
DTSTAMP:20260420T183517
CREATED:20240905T163816Z
LAST-MODIFIED:20240913T145420Z
UID:103688-1727118000-1727123400@www.craes.org.br
SUMMARY:Adm Talks: Negócios e Novas Tecnologias |  Faesa - Cariacica
DESCRIPTION:Tema: Adm Talks: Negócios e Novas Tecnologias | Comemoração aos 59 anos da AdministraçãoData: 23/09/2024Horário: 19hLocal: Faesa – CariacicaRelacionado ao Curso: Alunos curso de AdmObs.: CRA EducacionalRepresentante: Adm. Danielle Lameri Cruz Silva – Vice-coord. da Câmara Temática Marketing e Inovação
URL:https://www.craes.org.br/evento/cra-es-visita-faesa-cariacica/
CATEGORIES:agenda,Relacionamento Acadêmico
ATTACH;FMTTYPE=image/jpeg:https://www.craes.org.br/wp-content/uploads/2024/09/Slide10-1.jpg
END:VEVENT
BEGIN:VEVENT
DTSTART;TZID=America/Sao_Paulo:20240923T190000
DTEND;TZID=America/Sao_Paulo:20240923T210000
DTSTAMP:20260420T183517
CREATED:20240904T165921Z
LAST-MODIFIED:20240909T164335Z
UID:103630-1727118000-1727125200@www.craes.org.br
SUMMARY:CRA-ES | ADM TALKS – FAESA – Cariacica (Presencial)
DESCRIPTION:ADM TALKS – Negócios e Novas Tecnologias
URL:https://www.craes.org.br/evento/cra-es-adm-talks-faesa-cariacica-presencial/
CATEGORIES:eventos,Mês da Administração - Palestra nas IES
ATTACH;FMTTYPE=image/jpeg:https://www.craes.org.br/wp-content/uploads/2024/09/danielle-lamere.jpg
END:VEVENT
END:VCALENDAR