BEGIN:VCALENDAR
VERSION:2.0
PRODID:-//CRA-ES - ECPv6.15.20//NONSGML v1.0//EN
CALSCALE:GREGORIAN
METHOD:PUBLISH
X-WR-CALNAME:CRA-ES
X-ORIGINAL-URL:https://www.craes.org.br
X-WR-CALDESC:Eventos para CRA-ES
REFRESH-INTERVAL;VALUE=DURATION:PT1H
X-Robots-Tag:noindex
X-PUBLISHED-TTL:PT1H
BEGIN:VTIMEZONE
TZID:America/Sao_Paulo
BEGIN:STANDARD
TZOFFSETFROM:-0300
TZOFFSETTO:-0300
TZNAME:-03
DTSTART:20240101T000000
END:STANDARD
END:VTIMEZONE
BEGIN:VEVENT
DTSTART;TZID=America/Sao_Paulo:20251020T190000
DTEND;TZID=America/Sao_Paulo:20251020T210000
DTSTAMP:20260420T171839
CREATED:20250812T194951Z
LAST-MODIFIED:20250812T195245Z
UID:108276-1760986800-1760994000@www.craes.org.br
SUMMARY:Adm Talks: IFES - Barra de São Francisco
DESCRIPTION:
URL:https://www.sympla.com.br/evento/cra-es-ifes-bsf-adm-talks-60-anos-da-adm-legado-inovacao-e-conexoes-humanas/3066555?_gl=1*q2fze2*_gcl_au*MTkwMDY2OTYyLjE3NTA3ODk0MTQuMjc2NDQyNjg1LjE3NTE5MDM0MjMuMTc1MTkwMzQyMg..*_ga*MTU5NjMwMTY1OS4xNzQzMDAyNjQx*_ga_KXH10SQTZF*czE3NTUwMjUwMDUkbzY5JGcxJHQxNzU1MDI4MTQ0JGoxMCRsMCRoODQ5NDg2NjA4#new_tab
CATEGORIES:eventos,Mês da Administração,Mês da Administração - Palestra nas IES
ATTACH;FMTTYPE=image/png:https://www.craes.org.br/wp-content/uploads/2025/08/2025.10.20-Jussara-1.png
END:VEVENT
END:VCALENDAR