BEGIN:VCALENDAR
VERSION:2.0
PRODID:-//CRA-ES - ECPv6.15.20//NONSGML v1.0//EN
CALSCALE:GREGORIAN
METHOD:PUBLISH
X-WR-CALNAME:CRA-ES
X-ORIGINAL-URL:https://www.craes.org.br
X-WR-CALDESC:Eventos para CRA-ES
REFRESH-INTERVAL;VALUE=DURATION:PT1H
X-Robots-Tag:noindex
X-PUBLISHED-TTL:PT1H
BEGIN:VTIMEZONE
TZID:America/Sao_Paulo
BEGIN:STANDARD
TZOFFSETFROM:-0300
TZOFFSETTO:-0300
TZNAME:-03
DTSTART:20230101T000000
END:STANDARD
END:VTIMEZONE
BEGIN:VEVENT
DTSTART;TZID=America/Sao_Paulo:20240716T190000
DTEND;TZID=America/Sao_Paulo:20240716T210000
DTSTAMP:20260421T180701
CREATED:20240625T164538Z
LAST-MODIFIED:20240625T164641Z
UID:101328-1721156400-1721163600@www.craes.org.br
SUMMARY:CRA-ES promove Seminário para Responsáveis Técnicos da Administração
DESCRIPTION:O Conselho Regional de Administração do Espírito Santo (CRA-ES) realiza um importante evento voltado para profissionais da área: o Seminário para Responsáveis Técnicos da Administração. O evento está agendado para o dia 16 de julho\, às 19h\, e será realizado online. 
URL:https://www.sympla.com.br/evento-online/seminario-responsavel-tecnico-alertas-sobre-mudancas-na-legislacao-e-atuacao-do-profissional/2514869#new_tab
CATEGORIES:Câmara Temática de Empreendedorismo e Inspiração,eventos
ATTACH;FMTTYPE=image/png:https://www.craes.org.br/wp-content/uploads/2024/06/Sympla.png
END:VEVENT
END:VCALENDAR