BEGIN:VCALENDAR
VERSION:2.0
PRODID:-//CRA-ES - ECPv6.15.20//NONSGML v1.0//EN
CALSCALE:GREGORIAN
METHOD:PUBLISH
X-WR-CALNAME:CRA-ES
X-ORIGINAL-URL:https://www.craes.org.br
X-WR-CALDESC:Eventos para CRA-ES
REFRESH-INTERVAL;VALUE=DURATION:PT1H
X-Robots-Tag:noindex
X-PUBLISHED-TTL:PT1H
BEGIN:VTIMEZONE
TZID:America/Sao_Paulo
BEGIN:STANDARD
TZOFFSETFROM:-0300
TZOFFSETTO:-0300
TZNAME:-03
DTSTART:20230101T000000
END:STANDARD
END:VTIMEZONE
BEGIN:VEVENT
DTSTART;TZID=America/Sao_Paulo:20240422T190000
DTEND;TZID=America/Sao_Paulo:20240422T210000
DTSTAMP:20260421T220820
CREATED:20240315T185354Z
LAST-MODIFIED:20240318T195245Z
UID:100077-1713812400-1713819600@www.craes.org.br
SUMMARY:ADM TALKS ARACRUZ | Os Impactos da I.A na Profissão do Administrador
DESCRIPTION:O CRA-ES apresenta o Adm Talks Itinerante do mês de abril com o tema: “Os Impactos da I.A na Profissão do Administrador“.  \n\n\n\nO Adm Talks tradicionalmente se trata de uma roda de conversa dedicada a profissionais e estudantes de Administração para discutirem e explorarem as diversas possibilidades do Profissional da Administração.  \n\n\n\nSempre realizado na sede do CRA-ES\, em Vitória\, o projeto iniciará a ampliação por outras cidades e municípios do Espírito Santo. E começaremos pela cidade de Aracruz\, no Auditório da FAACZ.
URL:https://www.sympla.com.br/adm-talks-aracruz-os-impactos-da-ia-na-profissao-do-administrador__2359655#new_tab
CATEGORIES:Câmara Temática de Empreendedorismo e Inspiração,eventos
ATTACH;FMTTYPE=image/png:https://www.craes.org.br/wp-content/uploads/2024/03/Site-1.png
END:VEVENT
END:VCALENDAR