BEGIN:VCALENDAR
VERSION:2.0
PRODID:-//CRA-ES - ECPv6.15.20//NONSGML v1.0//EN
CALSCALE:GREGORIAN
METHOD:PUBLISH
X-WR-CALNAME:CRA-ES
X-ORIGINAL-URL:https://www.craes.org.br
X-WR-CALDESC:Eventos para CRA-ES
REFRESH-INTERVAL;VALUE=DURATION:PT1H
X-Robots-Tag:noindex
X-PUBLISHED-TTL:PT1H
BEGIN:VTIMEZONE
TZID:America/Sao_Paulo
BEGIN:STANDARD
TZOFFSETFROM:-0300
TZOFFSETTO:-0300
TZNAME:-03
DTSTART:20230101T000000
END:STANDARD
END:VTIMEZONE
BEGIN:VEVENT
DTSTART;TZID=America/Sao_Paulo:20240413T080000
DTEND;TZID=America/Sao_Paulo:20240413T160000
DTSTAMP:20260421T220848
CREATED:20240315T185821Z
LAST-MODIFIED:20240315T185822Z
UID:100079-1712995200-1713024000@www.craes.org.br
SUMMARY:Curso para Formação de Educadores e Planejadores Financeiros
DESCRIPTION:13 e 27/04/2408 às 16h \n\n\n\n \n\n\n\nPrepare-se para uma imersão prática e enriquecedora no universo das finanças pessoais. Uma oportunidade para aprimorar suas habilidades e conhecimentos em gestão financeira de forma holística e eficiente
URL:https://www.craes.org.br/curso-financas/#new_tab
CATEGORIES:Câmara Temática de Educação e Administração Financeira,eventos
ATTACH;FMTTYPE=image/jpeg:https://www.craes.org.br/wp-content/uploads/2024/03/site.jpg
END:VEVENT
END:VCALENDAR