BEGIN:VCALENDAR
VERSION:2.0
PRODID:-//CRA-ES - ECPv6.15.20//NONSGML v1.0//EN
CALSCALE:GREGORIAN
METHOD:PUBLISH
X-ORIGINAL-URL:https://www.craes.org.br
X-WR-CALDESC:Eventos para CRA-ES
REFRESH-INTERVAL;VALUE=DURATION:PT1H
X-Robots-Tag:noindex
X-PUBLISHED-TTL:PT1H
BEGIN:VTIMEZONE
TZID:America/Sao_Paulo
BEGIN:STANDARD
TZOFFSETFROM:-0300
TZOFFSETTO:-0300
TZNAME:-03
DTSTART:20220101T000000
END:STANDARD
END:VTIMEZONE
BEGIN:VEVENT
DTSTART;TZID=America/Sao_Paulo:20231130T190000
DTEND;TZID=America/Sao_Paulo:20231130T210000
DTSTAMP:20260422T032008
CREATED:20230927T181459Z
LAST-MODIFIED:20231020T175910Z
UID:97228-1701370800-1701378000@www.craes.org.br
SUMMARY:Webinar: Aprendizagem profissional de jovens como desenvolvimento de equipe\, diversidade e inclusão
DESCRIPTION:Webinar Transformador: Aprendizagem Profissional de Jovens – Desenvolvimento de Equipes\, Diversidade e Inclusão \n\n\n\nVocê está pronto para uma experiência única e enriquecedora? Junte-se a nós neste emocionante webinar que será transmitido em nosso Canal no YouTube ( CRAES PLAY)\, com a participação do inspirador facilitador Pedro Chiappini. Prepare-se para uma jornada de descoberta e crescimento! \n\n\n\nData: 30 de NovembroHorário: 19hTransmissão: Canal no YouTube ( CRAES PLAY) \n\n\n\nSobre o Evento: \n\n\n\nNeste webinar\, mergulharemos na importância da inclusão e desenvolvimento do jovem aprendiz\, tanto como indivíduo quanto como futuro profissional\, para as empresas. Prepare-se para uma rica discussão que pode mudar a maneira como você encara a formação de equipes e a diversidade. \n\n\n\nPara Quem É Este Evento: \n\n\n\nEste webinar é aberto a todo o público\, com um foco especial em estudantes\, profissionais e empresas registrados no CRA-ES que desejam aprimorar seus conhecimentos e se destacar em um mundo cada vez mais inclusivo. Estamos comprometidos em promover a aprendizagem e a diversidade para um futuro mais brilhante. Seja você um estudante\, um profissional experiente ou um empresário\, esta é uma oportunidade única para crescer e se inspirar. \n\n\n\nCertificado de Participação: \n\n\n\nAo se inscrever\, você não apenas garante seu lugar neste evento exclusivo\, mas também tem a oportunidade de obter um certificado de participação. Esse certificado pode ser contabilizado como horas complementares para a Atividade Acadêmica Científica Cultural (AACC). \n\n\n\nPalestrante Pedro Chiappini: \n\n\n\nGestor executivo do Coletivo Aprendiz e Conselheiro do CIEDS. Com mais de 23 anos de experiência como consultor e empreendedor\, Pedro traz sua vasta expertise para inspirar e orientar você nesta jornada de aprendizado. \n\n\n\nInscrições Limitadas! Lembre-se de que as vagas são limitadas\, por isso\, é crucial garantir sua inscrição o quanto antes. \n\n\n\nInscrição Solidária: Este evento é gratuito\, mas o CRA-ES incentiva a inscrição social\, com a possibilidade de colaboração de qualquer valor. Sua contribuição ajudará a apoiar a Instituição Banda de Congo Amores da Lua. Utilize o PIX: 12549015746 para fazer sua doação e promover o bem. \n\n\n\nGARANTA SEU LUGAR AGORA E EMBARQUE CONOSCO NESTA JORNADA DE CRESCIMENTO E INCLUSÃO! \n\n\n\nPalestrante: \n\n\n\nPedro Chiappini: Gestor executivo do Coletivo Aprendiz e Conselheiro do CIEDS. Consultor e empreendedor há 23 anos. Ex gestor da Falconi\, da Mais e da Elogroup. Ex sócio Diretor da Trevo Criativo e da Mais. Administrador (ESPM) e mestre em psicologia social (UERJ).
URL:https://www.sympla.com.br/webinar-transformador-aprendizagem-profissional-de-jovens---desenvolvimento-de-equipes-diversidade__2182969
CATEGORIES:eventos
ATTACH;FMTTYPE=image/png:https://www.craes.org.br/wp-content/uploads/2023/09/Site-5.png
END:VEVENT
END:VCALENDAR