BEGIN:VCALENDAR
VERSION:2.0
PRODID:-//CRA-ES - ECPv6.15.20//NONSGML v1.0//EN
CALSCALE:GREGORIAN
METHOD:PUBLISH
X-WR-CALNAME:CRA-ES
X-ORIGINAL-URL:https://www.craes.org.br
X-WR-CALDESC:Eventos para CRA-ES
REFRESH-INTERVAL;VALUE=DURATION:PT1H
X-Robots-Tag:noindex
X-PUBLISHED-TTL:PT1H
BEGIN:VTIMEZONE
TZID:America/Sao_Paulo
BEGIN:STANDARD
TZOFFSETFROM:-0300
TZOFFSETTO:-0300
TZNAME:-03
DTSTART:20220101T000000
END:STANDARD
END:VTIMEZONE
BEGIN:VEVENT
DTSTART;TZID=America/Sao_Paulo:20231123T190000
DTEND;TZID=America/Sao_Paulo:20231123T210000
DTSTAMP:20260422T041450
CREATED:20230927T182141Z
LAST-MODIFIED:20231020T180117Z
UID:97233-1700766000-1700773200@www.craes.org.br
SUMMARY:Palestra: Sensibilização para Reflexos da LGPD
DESCRIPTION:Descrição do eventoDesperte a sua Consciência para a LGPD: Palestra Imperdível! \n\n\n\nVocê está convidado para uma experiência única de aprendizado e networking\, apresentada pelo Conselho Regional de Administração do Espírito Santo (CRA-ES) e ministrada pelo renomado palestrante Adm. Denys Rangel Moraes . Esta palestra transformadora\, intitulada “Sensibilização para Reflexos da LGPD”\, é uma oportunidade imperdível para administradores\, gestores e empresários se aprofundarem nos princípios e nas obrigações da LGPD\, bem como compreenderem os impactos potenciais em suas atividades de gestão. \n\n\n\nSobre o evento: \n\n\n\nNesta palestra\, vamos abordar os princípios essenciais da LGPD\, destacar as medidas de segurança necessárias para proteger dados pessoais\, explicar os direitos dos titulares desses dados e discutir as consequências legais da não conformidade com a legislação. Esses tópicos são fundamentais para qualquer pessoa envolvida no tratamento de dados pessoais. \n\n\n\nPara quem é este evento: \n\n\n\nEsse evento é aberto a todo o público\, com um foco especial em estudantes\, profissionais e empresas registrados no CRA-ES que desejam aprimorar seus conhecimentos e desejam estar à frente da curva no que diz respeito à proteção de dados pessoais. \n\n\n\nData e Horário: \n\n\n\n\nData: 23 de novembro\n\n\n\nHorário: 19h\n\n\n\nLocal: Auditório do CRA-ES\n\n\n\n\nCafé de Relacionamento: Antes do evento\, a partir das 18h30\, junte-se a nós para um estimulante café de relacionamento. Esta é a oportunidade perfeita de networking para expandir sua rede de contatos\, conectar-se com outros profissionais e empresários e trocar ideias em um ambiente descontraído. \n\n\n\nLembre-se de que as vagas são limitadas\, então\, garanta a sua inscrição o quanto antes! Além disso\, ao participar\, você receberá um certificado de participação que pode ser usado como horas complementares para a Atividade Acadêmica Científica Cultural (AACC). \n\n\n\nSobre o Palestrante: \n\n\n\nAdm. Denys Rangel Moraes | CRA 8292\, é um administrador e advogado altamente especializado em Direito da Privacidade de Dados Pessoais – LGPD\, Direito Educacional e Direito dos Autistas. Compartilhará seu vasto conhecimento para capacitá-lo a navegar com confiança na era da LGPD. \n\n\n\nInscrições Limitadas! Lembre-se de que as vagas são limitadas\, por isso\, é crucial garantir sua inscrição o quanto antes. \n\n\n\nInscrição Solidária: Este evento é gratuito\, mas o CRA-ES incentiva a inscrição social\, com a possibilidade de colaboração de qualquer valor. Sua contribuição ajudará a apoiar a Instituição Banda de Congo Amores da Lua. Utilize o PIX: 12549015746 para fazer sua doação e promover o bem. \n\n\n\nGaranta seu lugar agora e embarque conosco nesta jornada de conhecimento! \n\n\n\nPalestrante: \n\n\n\nAdm. Denys Rangel Moraes | CRA 8292: Administrador e Advogado\, com foco em Direito da Privacidade de Dados Pessoais – LGPD\, Direito Educacional\, Direito dos Autistas. \n\n\n\nEvento gratuito\, mas o Conselho Regional de Administração (CRA-ES) incentiva a inscrição social com a colaboração de qualquer valor para a Instituição Banda de Congo Amores da Lua | Ricardo Alves Sales – PIX: 12549015746
URL:https://www.sympla.com.br/evento/palestra-sensibilizacao-para-reflexos-da-lgpd/2178594
CATEGORIES:eventos
ATTACH;FMTTYPE=image/png:https://www.craes.org.br/wp-content/uploads/2023/10/Site-3.png
END:VEVENT
END:VCALENDAR