BEGIN:VCALENDAR
VERSION:2.0
PRODID:-//CRA-ES - ECPv6.15.20//NONSGML v1.0//EN
CALSCALE:GREGORIAN
METHOD:PUBLISH
X-WR-CALNAME:CRA-ES
X-ORIGINAL-URL:https://www.craes.org.br
X-WR-CALDESC:Eventos para CRA-ES
REFRESH-INTERVAL;VALUE=DURATION:PT1H
X-Robots-Tag:noindex
X-PUBLISHED-TTL:PT1H
BEGIN:VTIMEZONE
TZID:America/Sao_Paulo
BEGIN:STANDARD
TZOFFSETFROM:-0300
TZOFFSETTO:-0300
TZNAME:-03
DTSTART:20220101T000000
END:STANDARD
END:VTIMEZONE
BEGIN:VEVENT
DTSTART;TZID=America/Sao_Paulo:20231121T183000
DTEND;TZID=America/Sao_Paulo:20231121T210000
DTSTAMP:20260422T041450
CREATED:20231010T174559Z
LAST-MODIFIED:20231018T173819Z
UID:97916-1700591400-1700600400@www.craes.org.br
SUMMARY:Workshop: A Responsabilidade Técnica e Oportunidades em Licitações Públicas
DESCRIPTION: Você está convidado para uma grande experiência de aprendizado\, apresentada pelo  Conselho Regional de Administração do Espírito Santo (CRA-ES) e ministrada pelos palestrante Adm. Wellington Feroni e a participação da Fiscalização do CRA-ES. Esta palestra transformadora\, intitulada “A Responsabilidade Técnica e Oportunidades em Licitações Públicas”\, é uma oportunidade imperdível para administradores\, gestores e empresários se aprofundarem no importante tema.  \n\n\n\nPara quem é este evento:Aberto ao público em geral\, com foco em profissionais e empresas registrados no CRA-ES que desejam aprimorar seus conhecimentos. \n\n\n\nData e Horário:Data: 21 de novembroHorário: 18h30Local: SebraeLab – com Transmissão online.  \n\n\n\nConteúdo:No evento\, exploraremos “Oportunidades em Licitações Públicas\,” destacando o papel do Responsável Técnico em processos licitatórios\, a identificação dessas oportunidades\, os requisitos de habilitação\, as qualificações técnicas necessárias e o acompanhamento da execução dos contratos empresariais. Além disso\, discutiremos “Responsabilidade Técnica\,” abordando o papel do Responsável Técnico\, suas obrigações perante o CRA-ES\, os tipos de vínculos profissionais\, a documentação necessária\, a importância do Registro de Atestado de Capacidade Técnica e suas responsabilidades éticas e legais. \n\n\n\nEsperamos que essas discussões ofereçam insights valiosos e oportunidades de aprendizado para administradores\, gestores e empresários interessados em explorar e aproveitar ao máximo as oportunidades disponíveis nas licitações públicas\, ao mesmo tempo que compreendem a importância da responsabilidade técnica. \n\n\n\nCafé de Relacionamento: Antes do evento\, junte-se a nós para um estimulante café de relacionamento. Esta é a oportunidade perfeita de networking para expandir sua rede de contatos\, conectar-se com outros profissionais e empresários e trocar ideias em um ambiente descontraído. \n\n\n\nLembre-se de que as vagas são limitadas\, então\, garanta a sua inscrição quanto antes! Além disso\, ao participar\, você receberá um certificado de participação que pode ser usado como horas complementares para a Atividade Acadêmica Científica Cultural (AACC). Inscrições Limitadas! Lembre-se de que as vagas são limitadas\, por isso\, é crucial garantir sua inscrição o quanto antes.  \n\n\n\nInscrição Solidária:  Este evento é gratuito\, mas o CRA-ES incentiva a inscrição social\, com a possibilidade de colaboração de qualquer valor. Sua contribuição ajudará a apoiar a Instituição Banda de Congo Amores da Lua. Utilize o PIX: 12549015746 para fazer sua doação e promover o bem. \n\n\n\nGaranta seu lugar agora e embarque conosco nesta jornada de conhecimento! 
URL:https://www.sympla.com.br/evento/palestra-a-responsabilidade-tecnica-e-oportunidades-em-licitacoes-publicas/2198785
CATEGORIES:eventos
ATTACH;FMTTYPE=image/png:https://www.craes.org.br/wp-content/uploads/2023/10/Site-1.png
END:VEVENT
END:VCALENDAR