BEGIN:VCALENDAR
VERSION:2.0
PRODID:-//CRA-ES - ECPv6.15.20//NONSGML v1.0//EN
CALSCALE:GREGORIAN
METHOD:PUBLISH
X-ORIGINAL-URL:https://www.craes.org.br
X-WR-CALDESC:Eventos para CRA-ES
REFRESH-INTERVAL;VALUE=DURATION:PT1H
X-Robots-Tag:noindex
X-PUBLISHED-TTL:PT1H
BEGIN:VTIMEZONE
TZID:America/Sao_Paulo
BEGIN:STANDARD
TZOFFSETFROM:-0300
TZOFFSETTO:-0300
TZNAME:-03
DTSTART:20220101T000000
END:STANDARD
END:VTIMEZONE
BEGIN:VEVENT
DTSTART;TZID=America/Sao_Paulo:20231023T190000
DTEND;TZID=America/Sao_Paulo:20231023T210000
DTSTAMP:20260422T054135
CREATED:20231010T171304Z
LAST-MODIFIED:20231010T173154Z
UID:97901-1698087600-1698094800@www.craes.org.br
SUMMARY:ADM TALKS - Câmara Temática de Empreendedorismo e Inspiração
DESCRIPTION:Você está convidado para uma experiência de aprendizado e networking\, apresentada pelo Conselho Regional de Administração do Espírito Santo (CRA-ES) e ministrada pelo Administrador e Coordenador da Câmara Temática de Empreendedorismo e Inspiração\, Professor Glaucio Siqueira . Este bate-papo\, intitulado “Saindo do Mundo da Competição para a Colaboração: Expandindo Caminhos”\, é uma oportunidade para profissionais de Administração\, estudantes\, gestores e empresários se aprofundarem sobre gestão colaborativa. \n\n\n\nPara quem é este evento: \n\n\n\nEsse evento é aberto a todo o público\, com um foco especial em estudantes\, profissionais e empresas registrados no CRA-ES que desejam aprimorar seus conhecimentos e trocas de experiências. \n\n\n\nData e Horário: \n\n\n\nData: 23 de outubroHorário: 19hLocal: CRA-ES \n\n\n\nCafé de Relacionamento: Antes do evento\, a partir das 18h30\, junte-se a nós para um estimulante café de relacionamento. Esta é a oportunidade perfeita de networking para expandir sua rede de contatos\, conectar-se com outros profissionais e empresários e trocar ideias em um ambiente descontraído. \n\n\n\nLembre-se de que as vagas são limitadas\, então\, garanta a sua inscrição o quanto antes! Além disso\, ao participar\, você receberá um certificado de participação que pode ser usado como horas complementares para a Atividade Acadêmica Científica Cultural (AACC). \n\n\n\nSobre o Palestrante: \n\n\n\nAdm. Glaucio Siqueira | CRA 6915: Administrador\, especialista em Marketing e Gestão de Empresas\, empresário. Atua como coordenador do projeto Clínica de Negócios pela Câmara de Empreendedorismo e Inspiração\, e está à frente de negócios inovadores\, como CEO das empresas Gestão Super Simples\, ProfessorGlaucio & Associados e PG Marketplace. \n\n\n\nInscrições Limitadas! Lembre-se de que as vagas são limitadas\, por isso\, é crucial garantir sua inscrição o quanto antes. \n\n\n\nInscrição Solidária: Este evento é gratuito\, mas o CRA-ES incentiva a inscrição social\, com a possibilidade de colaboração de qualquer valor. Sua contribuição ajudará a apoiar a Instituição Banda de Congo Amores da Lua. Utilize o PIX: 12549015746 para fazer sua doação e promover o bem. \n\n\n\nGaranta seu lugar agora e embarque conosco nesta jornada de conhecimento!
URL:https://www.sympla.com.br/evento/adm-talks-camara-tematica-de-empreendedorismo-e-inspiracao/2182987
CATEGORIES:Câmara Temática de Empreendedorismo e Inspiração,eventos
ATTACH;FMTTYPE=image/png:https://www.craes.org.br/wp-content/uploads/2023/10/MicrosoftTeams-image-1.png
END:VEVENT
END:VCALENDAR