BEGIN:VCALENDAR
VERSION:2.0
PRODID:-//CRA-ES - ECPv6.15.20//NONSGML v1.0//EN
CALSCALE:GREGORIAN
METHOD:PUBLISH
X-WR-CALNAME:CRA-ES
X-ORIGINAL-URL:https://www.craes.org.br
X-WR-CALDESC:Eventos para CRA-ES
REFRESH-INTERVAL;VALUE=DURATION:PT1H
X-Robots-Tag:noindex
X-PUBLISHED-TTL:PT1H
BEGIN:VTIMEZONE
TZID:America/Sao_Paulo
BEGIN:STANDARD
TZOFFSETFROM:-0300
TZOFFSETTO:-0300
TZNAME:-03
DTSTART:20220101T000000
END:STANDARD
END:VTIMEZONE
BEGIN:VEVENT
DTSTART;TZID=America/Sao_Paulo:20230308T080000
DTEND;TZID=America/Sao_Paulo:20230308T110000
DTSTAMP:20260422T160925
CREATED:20230303T201240Z
LAST-MODIFIED:20230303T201310Z
UID:92318-1678262400-1678273200@www.craes.org.br
SUMMARY:Dia da Mulher: Programação especial
DESCRIPTION:Dia Internacional da Mulher\, o CRA-ES com o apoio de outras instituições vai promover uma programação especial. INSCREVA-SE
URL:https://crc-es.org.br/novos-eventos
CATEGORIES:eventos
ATTACH;FMTTYPE=image/png:https://www.craes.org.br/wp-content/uploads/2023/03/2023-evento-dia-da-mulher-site.png
END:VEVENT
END:VCALENDAR