BEGIN:VCALENDAR
VERSION:2.0
PRODID:-//CRA-ES - ECPv6.15.20//NONSGML v1.0//EN
CALSCALE:GREGORIAN
METHOD:PUBLISH
X-ORIGINAL-URL:https://www.craes.org.br
X-WR-CALDESC:Eventos para CRA-ES
REFRESH-INTERVAL;VALUE=DURATION:PT1H
X-Robots-Tag:noindex
X-PUBLISHED-TTL:PT1H
BEGIN:VTIMEZONE
TZID:America/Sao_Paulo
BEGIN:STANDARD
TZOFFSETFROM:-0300
TZOFFSETTO:-0300
TZNAME:-03
DTSTART:20220101T000000
END:STANDARD
END:VTIMEZONE
BEGIN:VEVENT
DTSTART;TZID=America/Sao_Paulo:20230307T190000
DTEND;TZID=America/Sao_Paulo:20230307T213000
DTSTAMP:20260422T155858
CREATED:20230208T192002Z
LAST-MODIFIED:20230216T165655Z
UID:92121-1678215600-1678224600@www.craes.org.br
SUMMARY:Workshop | Jornada do SER — Sucesso com Equilíbrio e Resultados
DESCRIPTION:07 de Março das 19 às 21h30 | Presencial na sede do CRA-ES \n\n\n\nParticipe da palestra com a especialista\, Maria Eliene Dalvi\, autora do livro “O Poder das Escolhas Conscientes”. Serão abordados assuntos como: Equilíbrio nas principais áreas da vida: Espiritual\, Trabalho/Financeiro\, Relacionamentos\, Saúde e Emocional\, um despertar de consciência em suas escolhas nas áreas da vida e traçar novas “Escolhas Conscientes” para uma vida mais leve e harmonizada.  O evento contará com uma palestra introdutória e dinâmica em grupo com aplicação do Game “ESCOLHAS”. \n\n\n\nPúblico alvo: \n\n\n\nProfissionais que desejam fazer escolhas conscientes através de uma jornada de autoconhecimento. \n\n\n\nInscrições até o dia: 03 de Março \n\n\n\nAs inscrições são necessárias\, pois as vagas são limitadas. Além disso\, é possível obter o certificado de participação\, que poderá ser contabilizado como horas complementares\, para a Atividade Acadêmica Científica Cultural (AACC). \n\n\n\nDurante os eventos presenciais\, no CRA-ES\, teremos um delicioso coffee break. Uma oportunidade incrível para você se conectar com profissionais e empresários\, aumentando sua rede de relacionamento.
URL:https://www.sympla.com.br/workshop--jornada-do-ser----sucesso-com-equilibrio-e-resultados__1874841#new_tab
CATEGORIES:eventos
ATTACH;FMTTYPE=image/png:https://www.craes.org.br/wp-content/uploads/2023/02/Evento-Workshop-Eliene-Dalvi-Sympla.png
END:VEVENT
END:VCALENDAR