BEGIN:VCALENDAR
VERSION:2.0
PRODID:-//CRA-ES - ECPv6.15.20//NONSGML v1.0//EN
CALSCALE:GREGORIAN
METHOD:PUBLISH
X-WR-CALNAME:CRA-ES
X-ORIGINAL-URL:https://www.craes.org.br
X-WR-CALDESC:Eventos para CRA-ES
REFRESH-INTERVAL;VALUE=DURATION:PT1H
X-Robots-Tag:noindex
X-PUBLISHED-TTL:PT1H
BEGIN:VTIMEZONE
TZID:America/Sao_Paulo
BEGIN:STANDARD
TZOFFSETFROM:-0300
TZOFFSETTO:-0300
TZNAME:-03
DTSTART:20220101T000000
END:STANDARD
END:VTIMEZONE
BEGIN:VEVENT
DTSTART;TZID=America/Sao_Paulo:20230302T090000
DTEND;TZID=America/Sao_Paulo:20230303T113000
DTSTAMP:20260422T160348
CREATED:20230213T113247Z
LAST-MODIFIED:20230213T113248Z
UID:92167-1677747600-1677843000@www.craes.org.br
SUMMARY:Workshop: Impactos da Nova Lei de Licitações
DESCRIPTION:Conteúdo a ser ministrado: \n\n\n\nCom a obrigatoriedade de aplicação da Lei n. 14.133/2021 nos processos licitatórios\, é necessário se adequar às inovações para que se mantenha a competitividade e segurança na contratação pública. \n\n\n\nNesse curso serão abordados temas como: \n\n\n\n\nConceito de licitação e princípios gerais;\n\n\n\nNovidades da nova lei de licitações;\n\n\n\nModalidades de licitação e procedimentos auxiliares;\n\n\n\nCritérios de Julgamento;\n\n\n\nImpugnações\, pedidos de esclarecimentos e recursos;\n\n\n\nHabilitação;\n\n\n\nBenefícios para micro e pequena empresa;\n\n\n\nAlterações dos contratos e dos preços.
URL:https://www.sympla.com.br/evento/workshop-impactos-da-nova-lei-de-licitacoes/1834870
CATEGORIES:eventos
ATTACH;FMTTYPE=image/png:https://www.craes.org.br/wp-content/uploads/2023/01/Nova-Lei-de-Licitacoes-Imprensa.png
END:VEVENT
END:VCALENDAR