BEGIN:VCALENDAR
VERSION:2.0
PRODID:-//CRA-ES - ECPv6.15.20//NONSGML v1.0//EN
CALSCALE:GREGORIAN
METHOD:PUBLISH
X-ORIGINAL-URL:https://www.craes.org.br
X-WR-CALDESC:Eventos para CRA-ES
REFRESH-INTERVAL;VALUE=DURATION:PT1H
X-Robots-Tag:noindex
X-PUBLISHED-TTL:PT1H
BEGIN:VTIMEZONE
TZID:America/Sao_Paulo
BEGIN:STANDARD
TZOFFSETFROM:-0300
TZOFFSETTO:-0300
TZNAME:-03
DTSTART:20220101T000000
END:STANDARD
END:VTIMEZONE
BEGIN:VEVENT
DTSTART;TZID=America/Sao_Paulo:20230211T080000
DTEND;TZID=America/Sao_Paulo:20230217T170000
DTSTAMP:20260422T172825
CREATED:20230124T142905Z
LAST-MODIFIED:20230124T165628Z
UID:91906-1676102400-1676653200@www.craes.org.br
SUMMARY:Curso online: Capacitação de Consultores
DESCRIPTION:Foi aberta uma nova turma 100% online para o Programa de Capacitação de Consultores CRA-ES. \n\n\n\nO curso terá carga horária total de 36h\, divididas em 18h de aulas e 18h de atividades a serem cumpridas entre as aulas. As aulas síncronas acontecerão de forma online e serão realizadas através da plataforma Zoom Meeting\, nas seguintes datas e horários: \n\n\n\n? 11/02/23 (sábado) – ⏰ 9h às 17h? 14/02/23 (terça) – ⏰ 19h às 21h30? 15/02/23 (quarta) – ⏰ 19h às 21h30? 16/02/23 (quinta) – ⏰ 19h às 21h30? 17/02/23 (sexta) – ⏰ 19h às 21h30 \n\n\n\n?INVESTIMENTO E INSCRIÇÕES: R$ 50\,00 (cinquenta reais) referente ao material que será disponibilizado\, incluindo a licença individual do software para cada inscrito. \n\n\n\n?O curso se destina a Profissionais da Administração registrados\, ativos e adimplentes com o CRA-ES que já atuam ou pretendem atuar no ramo de consultoria.
URL:https://www.sympla.com.br/programa-de-capacitacao-de-consultores-online-estudantes-de-administracao__1847294#new_tab
CATEGORIES:Câmara Temática de Empreendedorismo e Inspiração,eventos
ATTACH;FMTTYPE=image/jpeg:https://www.craes.org.br/wp-content/uploads/2023/01/d3f5d718-93e9-4ed2-8918-adcbe0877f86.jpg
END:VEVENT
END:VCALENDAR