BEGIN:VCALENDAR
VERSION:2.0
PRODID:-//CRA-ES - ECPv6.15.20//NONSGML v1.0//EN
CALSCALE:GREGORIAN
METHOD:PUBLISH
X-WR-CALNAME:CRA-ES
X-ORIGINAL-URL:https://www.craes.org.br
X-WR-CALDESC:Eventos para CRA-ES
REFRESH-INTERVAL;VALUE=DURATION:PT1H
X-Robots-Tag:noindex
X-PUBLISHED-TTL:PT1H
BEGIN:VTIMEZONE
TZID:America/Sao_Paulo
BEGIN:STANDARD
TZOFFSETFROM:-0300
TZOFFSETTO:-0300
TZNAME:-03
DTSTART:20210101T000000
END:STANDARD
END:VTIMEZONE
BEGIN:VEVENT
DTSTART;TZID=America/Sao_Paulo:20220930T183000
DTEND;TZID=America/Sao_Paulo:20220930T213000
DTSTAMP:20260422T223505
CREATED:20220905T165439Z
LAST-MODIFIED:20221003T183421Z
UID:88686-1664562600-1664573400@www.craes.org.br
SUMMARY:Palestra Magna: Gestão de Novos Negócios\, Inovação e o Futuro do Profissional da Administração 
DESCRIPTION:Palestra Magna: Gestão de Novos Negócios\, Inovação e o Futuro do Profissional da Administração. \n\n\n\n \n\n\n \n\n\n\n \n\n\n \nEm 2022\, a Administração\, como profissão\, comemora seus 57 anos no Brasil! Para celebrar\, o CRA-ES programou o Mês do Profissional da Administração com eventos voltados aos empresários\, profissionais e estudantes da área de Administração e Tecnologia em Gestão\, no intuito de provocar a discussão de assuntos relativos à profissão e contribuir para o desenvolvimento do Espírito Santo.  \n\n\n\n \n \n\n\n \nPara fechar este mês tão especial\, teremos a Palestra Magna no dia 30/09\, que será ministrada por Paula Harraca\, Diretora de Futuro da ArcelorMittal\, que abordará o tema “Gestão de Novos Negócios\, Inovação e o Futuro do Profissional da Administração”. \n\n\n\n \n \n\n\n \nDia: 30.09 às 18h30. \n\n\n\n \n \n\n\n \nLocal: a definir. \n\n\n\n \n\n\n \nO evento é presencial. As inscrições são gratuitas e podem ser feitas pelo link: https://bit.ly/palestra-magna \nPalestrante: \n\n\n\n\n \n\nPaula Harraca\, Diretora de Futuro da  ArcelorMittalPaula Harra é formada em Administração pela faculdade Austral\, na Argentina\, Master em RH e Gestão de Conhecimento pela Univerdade de Leon\, na Espanha. Atualmente Diretora de Futuro da ArcelorMittal\, começou sua experiência de 18 anos na Argentina\, passou por Trinidad e Tobago\, Canadá\, Espanha e Luxemburgo antes de chegar ao Brasil. \n\n\n\n  \n57 anos da Administração! \n\n\n\n\nCom o tema “Gestão de Novos Negócios\, Inovação e o Futuro do Profissional da Administração”\, o CRA-ES oferece um ciclo de qualificação\, que acontecerá durante todo o mês de setembro. Saiba mais em: https://www.craes.org.br/mes-adm/\n\n\n\n  \n@craesplay \n\n\n\n\nJá conhece o nosso canal no YouTube? Lá é possível conferir conteúdos exclusivos sobre Administração\, incluindo dicas\, curiosidades e transmissão de eventos! Acesse\, clique no botão para se inscrever no canal. Ative o sininho das notificações e receba um alerta assim que algum novo conteúdo for publicado! Esperamos por você!
URL:https://jacredenciei.com.br/e/diadoadm2022#new_tab
CATEGORIES:eventos,Mês da Administração
ATTACH;FMTTYPE=image/png:https://www.craes.org.br/wp-content/uploads/2022/09/palestra-magna-site-2.png
END:VEVENT
END:VCALENDAR