BEGIN:VCALENDAR
VERSION:2.0
PRODID:-//CRA-ES - ECPv6.15.20//NONSGML v1.0//EN
CALSCALE:GREGORIAN
METHOD:PUBLISH
X-WR-CALNAME:CRA-ES
X-ORIGINAL-URL:https://www.craes.org.br
X-WR-CALDESC:Eventos para CRA-ES
REFRESH-INTERVAL;VALUE=DURATION:PT1H
X-Robots-Tag:noindex
X-PUBLISHED-TTL:PT1H
BEGIN:VTIMEZONE
TZID:America/Sao_Paulo
BEGIN:STANDARD
TZOFFSETFROM:-0300
TZOFFSETTO:-0300
TZNAME:-03
DTSTART:20210101T000000
END:STANDARD
END:VTIMEZONE
BEGIN:VEVENT
DTSTART;TZID=America/Sao_Paulo:20220922T190000
DTEND;TZID=America/Sao_Paulo:20220922T210000
DTSTAMP:20260422T233823
CREATED:20220817T164813Z
LAST-MODIFIED:20220914T162117Z
UID:87971-1663873200-1663880400@www.craes.org.br
SUMMARY:1º ADM Talks: Roda de Conversa dos profissionais da Administração
DESCRIPTION:1° ADM Talks: Roda de Conversa entre Administradores sobre gestão e networking  \nDia: 22.09 às 19h \nO evento é presencial e gratuito. Será no auditório do CRA-ES As inscrições são gratuitas e podem ser feitas pelo link: bit.ly/adm-talks \nO ADM Talks será a primeira Roda de conversa\, que ocorrerá mensalmente\, promovida pela Câmara de Empreendedorismo e Inspiração do CRA-ES. O momento será de diálogo entre Administradores para atualização sobre gestão\, novos conhecimentos da ciência da Administração e para um momento de networking e descontração. \n\n\n\n\n \n\n\n\n\n \n\n\n\n\n \n  \nFacilitador: \n\n\n\n\n\nAdm. Glaucio Siqueira CRA-ES 6915Administrador\, Empreendedor\, coordenador da Câmara de Empreendedorismo e Inspiração do CRA-ES\, consultor de empresas. \n\n\n\n\n  \n57 anos da Administração! \n\n\n\n\nCom o tema “Gestão de Novos Negócios\, Inovação e o Futuro do Profissional da Administração”\, o CRA-ES oferece um ciclo de qualificação\, que acontecerá durante todo o mês de setembro. Saiba mais em: https://www.craes.org.br/mes-adm/\n\n\n\n  \n@craesplay \n\n\n\n\nJá conhece o nosso canal no YouTube? Lá é possível conferir conteúdos exclusivos sobre Administração\, incluindo dicas\, curiosidades e transmissão de eventos! Acesse\, clique no botão para se inscrever no canal. Ative o sininho das notificações e receba um alerta assim que algum novo conteúdo for publicado! Esperamos por você!\n\n\n\n  \n  \n\n\n\n\n \n  \n\n\n\n\n \n 
URL:https://www.sympla.com.br/adm-talks--roda-de-conversa__1685444#new_tab
CATEGORIES:eventos,Mês da Administração
ATTACH;FMTTYPE=image/png:https://www.craes.org.br/wp-content/uploads/2022/08/1o-ADM-TALKS-_-Roda-de-Conversa-SITE.png
END:VEVENT
END:VCALENDAR