BEGIN:VCALENDAR
VERSION:2.0
PRODID:-//CRA-ES - ECPv6.15.20//NONSGML v1.0//EN
CALSCALE:GREGORIAN
METHOD:PUBLISH
X-ORIGINAL-URL:https://www.craes.org.br
X-WR-CALDESC:Eventos para CRA-ES
REFRESH-INTERVAL;VALUE=DURATION:PT1H
X-Robots-Tag:noindex
X-PUBLISHED-TTL:PT1H
BEGIN:VTIMEZONE
TZID:America/Sao_Paulo
BEGIN:STANDARD
TZOFFSETFROM:-0300
TZOFFSETTO:-0300
TZNAME:-03
DTSTART:20210101T000000
END:STANDARD
END:VTIMEZONE
BEGIN:VEVENT
DTSTART;TZID=America/Sao_Paulo:20220921T090000
DTEND;TZID=America/Sao_Paulo:20220921T103000
DTSTAMP:20260422T234021
CREATED:20220826T120000Z
LAST-MODIFIED:20220915T134014Z
UID:88383-1663750800-1663756200@www.craes.org.br
SUMMARY:Workshop | Licitações e Contratos com Poder Público: cuidados para evitar surpresas!
DESCRIPTION:Licitações e Contratos com Poder Público: cuidados para evitar surpresas! \n\n\n\n \n\n\n \nParticipe da palestra com o especialista Adv. Rodolfo Silvestre. Serão abordados o Panorama geral da Lei de Licitações\, Pontos de atenção nas Licitações e na execução de contratos administrativos e análises de casos concretos. O evento será gratuito e acontecerá no dia 21/09 às 9h de forma presencial no Auditório do CRA-ES. \n\n\n\n \n\n\n \nDia: 21.09 às 9h \nO evento é presencial. As inscrições são gratuitas e podem ser feitas pelo link: https://bit.ly/licit-e-contratos \n\n\n\n \n\n\n \nPalestrante: \n\n\n\n\n\nAdv. Rodolfo Silvestre\, OAB/ES n° 11.810 \nSócio e Coordenador da Área de Licitações e Relações com o Poder Público do Brum Kuster\, Marques e Fragoso Advogados.  Foi professor de Direito Tributário em curso de graduação e foimembro da Comissão de Sociedades de Advogados da OAB-ES.  \n\n\n\n\n\n\n\n \n\n\n \n  \n57 anos da Administração! \n\n\n\n\nCom o tema “Gestão de Novos Negócios\, Inovação e o Futuro do Profissional da Administração”\, o CRA-ES oferece um ciclo de qualificação\, que acontecerá durante todo o mês de setembro. Saiba mais em: https://www.craes.org.br/mes-adm/\n\n\n\n@craesplay \n\n\n\n\nJá conhece o nosso canal no YouTube? Lá é possível conferir conteúdos exclusivos sobre Administração\, incluindo dicas\, curiosidades e transmissão de eventos! Acesse\, clique no botão para se inscrever no canal. Ative o sininho das notificações e receba um alerta assim que algum novo conteúdo for publicado! Esperamos por você!\n\n\n\n 
URL:https://www.sympla.com.br/evento/workshop-licitacoes-e-contratos-com-poder-publico-cuidados-para-evitar-surpresas/1694823
CATEGORIES:eventos,Mês da Administração
ATTACH;FMTTYPE=image/png:https://www.craes.org.br/wp-content/uploads/2022/08/Workshop-_-Licitacoes-e-Contratos-com-Poder-Publico_-cuidados-para-evitar-surpresas-SITE-1.png
END:VEVENT
BEGIN:VEVENT
DTSTART;TZID=America/Sao_Paulo:20220921T190000
DTEND;TZID=America/Sao_Paulo:20220921T210000
DTSTAMP:20260422T234021
CREATED:20220819T174503Z
LAST-MODIFIED:20220919T131505Z
UID:88042-1663786800-1663794000@www.craes.org.br
SUMMARY:Workshop | Educação Financeira e o Administrador
DESCRIPTION:Venha saber mais sobre Consciência Financeira Doméstica como um ramo de atividade para o Administrador. Atualmente\, as famílias têm se preocupado cada vez mais mais com o planejamento financeiro da casa\, devido principalmente ao cenário econômico brasileiro e mundial incerto. Com isso\, a procura por profissionais que atuam na área de finanças domésticas também está em crescimento. \nDia: 21.09 às 19h \nO evento é presencial. No auditório do CRA-ES. As inscrições são gratuitas e podem ser feitas pelo link: https://bit.ly/ed-financ-adm  \n\n\n\n\n \n\n\n\n\n \n  \nPalestrante \n\n\n\n\nAdm. Érico Colodeti Filho\, CRA-ES 6367.  CRC-ES 019661/O-3Administrador\, Contador\, Mestre em Controladoria e Finanças\, Consultor empresarial na área financeira\, Professor Universitário e Planejador Financeiro.\n\n\n\n\n\n\n\n \n  \n57 anos da Administração! \n\n\n\n\nCom o tema “Gestão de Novos Negócios\, Inovação e o Futuro do Profissional da Administração”\, o CRA-ES oferece um ciclo de qualificação\, que acontecerá durante todo o mês de setembro. Saiba mais em: https://www.craes.org.br/mes-adm/\n\n\n\n  \n  \n@craesplay \n\n\n\n\nJá conhece o nosso canal no YouTube? Lá é possível conferir conteúdos exclusivos sobre Administração\, incluindo dicas\, curiosidades e transmissão de eventos! Acesse\, clique no botão para se inscrever no canal. Ative o sininho das notificações e receba um alerta assim que algum novo conteúdo for publicado! Esperamos por você!\n\n\n\n 
URL:https://www.sympla.com.br/evento/palestra--educacao-financeira-e-o-administrador/1688257#new_tab
CATEGORIES:eventos,Mês da Administração
ATTACH;FMTTYPE=image/png:https://www.craes.org.br/wp-content/uploads/2022/08/Workshop-_-Educacao-Financeira-e-o-Administrador-SITE-1.png
END:VEVENT
BEGIN:VEVENT
DTSTART;TZID=America/Sao_Paulo:20220921T194000
DTEND;TZID=America/Sao_Paulo:20220921T204000
DTSTAMP:20260422T234021
CREATED:20220913T130252Z
LAST-MODIFIED:20220913T130410Z
UID:88801-1663789200-1663792800@www.craes.org.br
SUMMARY:Palestra | FARESE Santa Maria de Jetibá
DESCRIPTION:PALESTRA  EM COMEMORAÇÃO AOS 57 ANOS DA ADMINISTRAÇÃO NO BRASIL \n\n\n\nPalestra ministrada pelo Adm. Luiz Carlos de Araújo\, na FARESE em Santa Maria de Jetibá\, em comemoração ao mês da Administração\, com o tema “Administrando suas Finanças Pessoais”. \n\n\n\nDia: 21.09 às 19h40
URL:https://www.sympla.com.br/evento/farese--palestra-em-comemoracao-aos-57-anos-da-administracao/1715552?_gl=1*17jd0ks*_ga*MzUwODEwNzQ4LjE2NDM5MDA0NDM.*_ga_KXH10SQTZF*MTY2MzA2NzIxOS4yMjAuMS4xNjYzMDc0MTI2LjAuMC4w#new_tab
CATEGORIES:eventos,Mês da Administração
ATTACH;FMTTYPE=image/jpeg:https://www.craes.org.br/wp-content/uploads/2022/09/Convite-Faresi.jpg
END:VEVENT
END:VCALENDAR