BEGIN:VCALENDAR
VERSION:2.0
PRODID:-//CRA-ES - ECPv6.15.20//NONSGML v1.0//EN
CALSCALE:GREGORIAN
METHOD:PUBLISH
X-WR-CALNAME:CRA-ES
X-ORIGINAL-URL:https://www.craes.org.br
X-WR-CALDESC:Eventos para CRA-ES
REFRESH-INTERVAL;VALUE=DURATION:PT1H
X-Robots-Tag:noindex
X-PUBLISHED-TTL:PT1H
BEGIN:VTIMEZONE
TZID:America/Sao_Paulo
BEGIN:STANDARD
TZOFFSETFROM:-0300
TZOFFSETTO:-0300
TZNAME:-03
DTSTART:20210101T000000
END:STANDARD
END:VTIMEZONE
BEGIN:VEVENT
DTSTART;TZID=America/Sao_Paulo:20220916T100000
DTEND;TZID=America/Sao_Paulo:20220916T113000
DTSTAMP:20260422T233823
CREATED:20220830T140545Z
LAST-MODIFIED:20220914T164345Z
UID:88559-1663322400-1663327800@www.craes.org.br
SUMMARY:Palestra | Diversidade & Inclusão: porque devemos falar sobre isso
DESCRIPTION:WORKSHOP | Diversidade & Inclusão: porque devemos falar sobre isso \n\n\n\n \n \n\n\n \nDia: 16.09 às 10h. No auditório do CRA-ES.  \n\n\n\n \n \n\n\n \nO evento é presencial e gratuito. As inscrições são gratuitas e podem ser feitas pelo link: https://bit.ly/divers-inclus \n\n\n\n \n \n\n\n \nAs inscrições são necessárias\, pois as vagas são limitadas. Além disso\, é possível obter o certificado de participação\, que poderá ser contabilizado como horas complementares\, para a Atividade Acadêmica Científica Cultural (AACC). \nPalestrante: \n\n\n\n\n\nRafael Albino Lemos \nFormado em Marketing\, Especialista em Psicologia Positiva\, em Gestão de Pessoas e pós-graduando em Neurociência e Comportamento Humano. Especialista de Costumer Success na Mereo Tech. Atual Diretor Executivo de Diversidade & Inclusão da ABRH-ES. \n\n\n\n\n57 anos da Administração! \n\n\n\n\nCom o tema “Gestão de Novos Negócios\, Inovação e o Futuro do Profissional da Administração”\, o CRA-ES oferece um ciclo de qualificação\, que acontecerá durante todo o mês de setembro. Saiba mais em: https://www.craes.org.br/mes-adm/\n\n\n\n@craesplay \n\n\n\n\nJá conhece o nosso canal no YouTube? Lá é possível conferir conteúdos exclusivos sobre Administração\, incluindo dicas\, curiosidades e transmissão de eventos! Acesse\, clique no botão para se inscrever no canal. Ative o sininho das notificações e receba um alerta assim que algum novo conteúdo for publicado! Esperamos por você!\n\n\n\n 
URL:https://www.sympla.com.br/evento/workshop--diversidade--inclusao-porque-devemos-falar-sobre-isso/1698815#new_tab
CATEGORIES:eventos,Mês da Administração
ATTACH;FMTTYPE=image/png:https://www.craes.org.br/wp-content/uploads/2022/08/Palestra-Diversidade-Inclusao_-porque-devemos-falar-sobre-isso-SITE.png
END:VEVENT
END:VCALENDAR