BEGIN:VCALENDAR
VERSION:2.0
PRODID:-//CRA-ES - ECPv6.15.20//NONSGML v1.0//EN
CALSCALE:GREGORIAN
METHOD:PUBLISH
X-ORIGINAL-URL:https://www.craes.org.br
X-WR-CALDESC:Eventos para CRA-ES
REFRESH-INTERVAL;VALUE=DURATION:PT1H
X-Robots-Tag:noindex
X-PUBLISHED-TTL:PT1H
BEGIN:VTIMEZONE
TZID:America/Sao_Paulo
BEGIN:STANDARD
TZOFFSETFROM:-0300
TZOFFSETTO:-0300
TZNAME:-03
DTSTART:20210101T000000
END:STANDARD
END:VTIMEZONE
BEGIN:VEVENT
DTSTART;TZID=America/Sao_Paulo:20220913T190000
DTEND;TZID=America/Sao_Paulo:20220913T200000
DTSTAMP:20260422T234057
CREATED:20220913T120137Z
LAST-MODIFIED:20220913T120140Z
UID:88782-1663095600-1663099200@www.craes.org.br
SUMMARY:Palestra – Multivix São Mateus
DESCRIPTION:Palestra ministrada pela Adm. Renata Cristina Silva Lopes\, na Multivix de São Mateus\, em comemoração ao mês da Administração\, com o tema “O Profissional de Administração no Centro dos Negócios e da Sociedade”. \n\n\n\nDia: 13.09 às 19h
URL:https://www.sympla.com.br/palestra-multivix-sao-mateus-o-profissional-de-administracao-no-centro-dos-negocios-e-da-sociedade__1714934?_gl=1*1aao3oc*_ga*MzUwODEwNzQ4LjE2NDM5MDA0NDM.*_ga_KXH10SQTZF*MTY2MzA2NzIxOS4yMjAuMS4xNjYzMDcwNDUxLjAuMC4w#new_tab
CATEGORIES:eventos,Mês da Administração
ATTACH;FMTTYPE=image/jpeg:https://www.craes.org.br/wp-content/uploads/2022/09/Convite-Multivix-Sao-Mateus.jpg
END:VEVENT
BEGIN:VEVENT
DTSTART;TZID=America/Sao_Paulo:20220913T193000
DTEND;TZID=America/Sao_Paulo:20220913T210000
DTSTAMP:20260422T234057
CREATED:20220823T153100Z
LAST-MODIFIED:20220913T152732Z
UID:88193-1663097400-1663102800@www.craes.org.br
SUMMARY:Workshop | 5 anos da reforma trabalhista: sua empresa já sabe usar tudo o que mudou?
DESCRIPTION:  \n\n\n\n\n \n5 anos da reforma trabalhista: sua empresa já sabe usar tudo o que mudou? \n\n\n\n\n \nParticipe da palestra com os especialistas Adv. Victor Passos. Eles darão orientações de como estão sendo utilizadas as novas regras e quais foram criadas na reforma trabalhista. Além disso\, os convidados poderão entender mais como isso impacta no relacionamento empresa e funcionário.  \n\n\n\n\n \nDia: 13.09 às 19h30 \n\n\n\n\n \nO evento é presencial. As inscrições são gratuitas e podem ser feitas pelo link: https://bit.ly/5-anos-ref-trab \n\n\n\n\n \nPalestrante: \n\n\n\n\nAdv. Victor Passos\, OAB-ES 12.506 Advogado\, com L. LM em Direito Empresarial pela FGV\, MBA em Direito Civil e Processo Civil pela FGV E sócio do escritório Passos Costa Advogados. \n\n\n\n\n\n\n\n \n  \n57 anos da Administração! \n\n\n\n\nCom o tema “Gestão de Novos Negócios\, Inovação e o Futuro do Profissional da Administração”\, o CRA-ES oferece um ciclo de qualificação\, que acontecerá durante todo o mês de setembro. Saiba mais em: https://www.craes.org.br/mes-adm/\n\n\n\n@craesplay \n\n\n\n\nJá conhece o nosso canal no YouTube? Lá é possível conferir conteúdos exclusivos sobre Administração\, incluindo dicas\, curiosidades e transmissão de eventos! Acesse\, clique no botão para se inscrever no canal. Ative o sininho das notificações e receba um alerta assim que algum novo conteúdo for publicado! Esperamos por você!
URL:https://www.sympla.com.br/evento/workshop-5-anos-da-reforma-trabalhista-sua-empresa-ja-sabe-usar-tudo-o-que-mudou/1691857#new_tab
CATEGORIES:eventos,Mês da Administração
ATTACH;FMTTYPE=image/png:https://www.craes.org.br/wp-content/uploads/2022/08/Workshop-_-5-anos-da-reforma-trabalhista-SITE-1.png
END:VEVENT
END:VCALENDAR