BEGIN:VCALENDAR
VERSION:2.0
PRODID:-//CRA-ES - ECPv6.15.20//NONSGML v1.0//EN
CALSCALE:GREGORIAN
METHOD:PUBLISH
X-ORIGINAL-URL:https://www.craes.org.br
X-WR-CALDESC:Eventos para CRA-ES
REFRESH-INTERVAL;VALUE=DURATION:PT1H
X-Robots-Tag:noindex
X-PUBLISHED-TTL:PT1H
BEGIN:VTIMEZONE
TZID:America/Sao_Paulo
BEGIN:STANDARD
TZOFFSETFROM:-0300
TZOFFSETTO:-0300
TZNAME:-03
DTSTART:20210101T000000
END:STANDARD
END:VTIMEZONE
BEGIN:VEVENT
DTSTART;TZID=America/Sao_Paulo:20220812T190000
DTEND;TZID=America/Sao_Paulo:20220813T083000
DTSTAMP:20260423T005330
CREATED:20220808T135944Z
LAST-MODIFIED:20220808T135945Z
UID:87677-1660330800-1660379400@www.craes.org.br
SUMMARY:Capacitação de Consultores Aprendizes
DESCRIPTION:EDITAL DE PARTICIPAÇÃO | PROGRAMA DE CAPACITAÇÃO DE CONSULTORES ONLINE \n\n\n\n“Clínica de Negócios” \n\n\n\nAgosto/2022 \n\n\n\nPor conta do cenário de afastamento social\, que impactou severamente inúmeros negócios\, o Conselho Regional de Administração do Espírito Santo – CRA-ES\, lançou em maio de 2020\, a campanha “Administrador e Empreendedor: unidos no fortalecimento dos negócios”. O objetivo foi oferecer consultorias empresariais\, gratuitas\, para micro e pequenas empresas\, ofertadas voluntariamente por profissionais de Administração. Até dezembro de 2020\, mais de 60 micros e pequenas empresas se cadastraram e puderam se beneficiar desta ação coordenada pela Câmara Temática de Empreendedorismo e Inspiração do CRA-ES. A ação possibilitou a geração de um modelo único e altamente consolidado de consultoria online\, alicerçado no conceito de esforço colaborativo. Os profissionais da Administração voluntários tiveram a oportunidade de ampliar seu networking e ainda aprender uma nova modalidade de consultoria. \n\n\n\nEm abril de 2021\, a Câmara de Empreendedorismo e Inspiração reiniciou o atendimento online e gratuito às empresas que necessitam recuperar seus negócios através da “Clínica de Negócios” e desde então\, tem realizado capacitações para aprofundamento da metodologia utilizada nos atendimentos online. Em agosto\, a Câmara de Empreendedorismo iniciou uma nova etapa\, passando a receber estudantes dos últimos períodos dos cursos de Administração para que tenham a experiência prática da consultoria como aprendizes. Após o sucesso da experiência\, agora\, em agosto de 2022\, será realizada a capacitação gratuita de estudantes do curso de Administração da Faesa Centro Universitário\, Instituição de Ensino parceira do CRA-ES no desenvolvimento de práticas supervisionadas que atendam às novas DCNs do curso de Administração\, para que possam conhecer a metodologia utilizada neste programa de consultoria já consolidado e bem-sucedido. A capacitação online e gratuita acontecerá nos dias 12 e 13 de agosto de 2022 e terá duração de 6 (seis) horas. Ao final\, os participantes receberão o certificado de participação e orientação sobre como poderão atuar como aprendizes na “Clínica de Negócios”\, o programa de consultoria voluntário e online formado por equipes multidisciplinares. \n\n\n\n1. OBJETIVO \n\n\n\nA capacitação tem como Objetivo proporcionar a aprendizagem de técnicas e ferramentas específicas que contribuirão para as competências e habilidades dos estudantes a partir do 6º período do curso de Administração da Faesa Centro Universitário\, na atuação como consultores aprendizes. Ao final da capacitação\, o aluno terá a oportunidade de atuar de forma voluntária no programa “Clínica de Negócios”. \n\n\n\n2. PÚBLICO-ALVO \n\n\n\nO curso se destina a estudantes a partir do 6º período do curso de Administração da Faesa Centro Universitário para que possam conhecer a metodologia utilizada no programa Clínica de Negócios e atuar como voluntário aprendiz na área de consultoria. \n\n\n\n3. CARGA HORÁRIA\, DIA E HORÁRIO DAS AULAS \n\n\n\nO curso terá carga horária total de 6h\, divididas em dois encontros online realizados através da plataforma Zoom Meeting\, nos dias 12 e 13 de agosto de 2022 (sexta e sábado)\, sendo sexta das 19h às 21h30 e sábado\, das 8h30 às 12h. \n\n\n\n 4. INVESTIMENTO \n\n\n\nO curso será totalmente gratuito. \n\n\n\n5. CONTEÚDO PROGRAMÁTICO \n\n\n\nMetodologia de consultoria da Clínica de Negócios;Canvas\, 5W2H\, GUT e ferramentas auxiliares;Processos colaborativos;Dicas comportamentais para consultores;Conceitos básicos de utilização do Zoom;Software de consultoria da Clínica de Negócios.\n\n\n\n 6. FACILITADOR \n\n\n\nAdm. Glaucio Gonçalves de Siqueira | CRA-ES 6915 \n\n\n\nAdministrador\, consultor de empresas\, com mais de 20 anos de atuação\, CEO do Gestão Super Simples\, diretor consultor do BNI Espírito Santo e coordenador da Câmara Temática de Empreendedorismo e Inspiração do CRA-ES. \n\n\n\nParticipação da equipe de consultores tutores atuantes na Clínica de Negócios. \n\n\n\n 7. INSCRIÇÃO E MATRÍCULA \n\n\n\nAs Inscrições serão realizadas no período de 02 a 12 de agosto de 2022\, através do site do CRA-ES (www.craes.org.br). Realizada a inscrição\, o IAES encaminhará a confirmação\, link do curso e demais informações para o e-mail cadastrado. \n\n\n\n8. CERTIFICADO \n\n\n\nPara fazer jus ao certificado do curso\, que será emitido com a chancela do CRA-ES o participante deverá participar\, obrigatoriamente\, dos dois encontros online. O certificado será enviado para o e-mail cadastrado em até 5 (cinco) dias úteis após o término do curso. \n\n\n\n9. INFORMAÇÕES \n\n\n\nTelefone: (27) 2121-0525 / (27) 99919-1317 \n\n\n\neventos@craes.org.br \n\n\n\nwww.craes.org.br \n\n\n\nLink de inscrição: https://www.sympla.com.br/programa-de-capacitacao-de-consultores-online-estudantes-de-administracao__1667506 \n\n\n\nVitória\, 02 de agosto de 2022. \n\n\n\n \n\n\n\nAdm. Pedro Cipriano Prêmoli | CRA-ES 0262 \n\n\n\nCoordenador – Instituto de Administração do Espírito Santo | IAES \n\n\n\nConselho Regional de Administração do Espírito Santo | CRA-ES
URL:https://www.craes.org.br/evento/capacitacao-de-consultores-aprendizes/
CATEGORIES:eventos
ATTACH;FMTTYPE=image/png:https://www.craes.org.br/wp-content/uploads/2021/06/capacitacao-consultores-sympla.png
END:VEVENT
END:VCALENDAR