BEGIN:VCALENDAR
VERSION:2.0
PRODID:-//CRA-ES - ECPv6.15.20//NONSGML v1.0//EN
CALSCALE:GREGORIAN
METHOD:PUBLISH
X-WR-CALNAME:CRA-ES
X-ORIGINAL-URL:https://www.craes.org.br
X-WR-CALDESC:Eventos para CRA-ES
REFRESH-INTERVAL;VALUE=DURATION:PT1H
X-Robots-Tag:noindex
X-PUBLISHED-TTL:PT1H
BEGIN:VTIMEZONE
TZID:America/Sao_Paulo
BEGIN:STANDARD
TZOFFSETFROM:-0300
TZOFFSETTO:-0300
TZNAME:-03
DTSTART:20210101T000000
END:STANDARD
END:VTIMEZONE
BEGIN:VEVENT
DTSTART;TZID=America/Sao_Paulo:20220706T190000
DTEND;TZID=America/Sao_Paulo:20220706T210000
DTSTAMP:20260423T015946
CREATED:20220610T134622Z
LAST-MODIFIED:20220624T180247Z
UID:86809-1657134000-1657141200@www.craes.org.br
SUMMARY:PALESTRA |Responsabilidade Técnica e Ética na Administração
DESCRIPTION:PALESTRA | Responsabilidade Técnica e Ética na Administração \n\n\nEsta Palestra será conduzida pelo administrador Hérickson Rangel\, Mestre em Administração pela UFMG\,  ex-presidente da ANEPREM e sócio da Privatiza Investimentos. O evento será gratuito e acontecerá no dia 06/07 das 19 às 21h de forma presencial no Auditório do CRA-ES\, respeitando os protocolos de prevenção da COVID-19. \n\n\nEvento Gratuito. Inscrições Limitadas!INSCREVA-SE: https://www.sympla.com.br/palestra-responsabilidade-tecnica-e-etica-na-administracao__1607475 \n\n\nPúblico-alvo: \n\n\nEmpresários\, profissionais e estudantes registrados no Conselho Regional de Administração do Espírito Santo.  \n\n\nConheça um pouco mais sobre nosso palestrante: \n\n\n– Mestre em Administração pela UFMG\, certificado pela Anbima com a CPA-20; \n\n\n– Ex-diretor de investimentos de RPPS e EFPC; \n\n\n– Ex-presidente da ANEPREM; \n\n\n– Organizador e coautor dos livros Gestão Previdenciária: princípios e práticas de boa gestão (2018) e Gestão Previdenciária: teoria e prática (2019);  \n\n\n– Palestrante e consultor organizacional;– Sócio da Privatiza Investimentos. \n\n\nMedidas de prevenção da COVID-191- Todos que quiserem usar máscara podem e devem fazê-lo\, principalmente aqueles com condições de saúde mais vulnerável; \n\n\n2- É obrigatório o uso de máscara para o participante que esteja apresentando ou venha a apresentar sintomas gripais\, para ingresso ou permanência nas dependências do CRA-ES\, para a preservação dos demais; \n\n\n3- Cubra o nariz e a boca com o braço dobrado ou um lenço ao tossir ou espirrar; \n\n\n4- Na recepção\, será borrifado álcool 70° nas mãos e medida a temperatura de todos que entrarem no CRA-ES; \n\n\n5- Busque manter distanciamento físico de 1\,5 m\, no mínimo\, nos assentos do auditório.
URL:https://www.craes.org.br/evento/palestra-responsabilidade-tecnica-e-etica-na-administracao/
CATEGORIES:eventos
ATTACH;FMTTYPE=image/jpeg:https://www.craes.org.br/wp-content/uploads/2022/06/289569607_1706028599761293_8835804328311625639_n.jpg
END:VEVENT
END:VCALENDAR