BEGIN:VCALENDAR
VERSION:2.0
PRODID:-//CRA-ES - ECPv6.15.20//NONSGML v1.0//EN
CALSCALE:GREGORIAN
METHOD:PUBLISH
X-WR-CALNAME:CRA-ES
X-ORIGINAL-URL:https://www.craes.org.br
X-WR-CALDESC:Eventos para CRA-ES
REFRESH-INTERVAL;VALUE=DURATION:PT1H
X-Robots-Tag:noindex
X-PUBLISHED-TTL:PT1H
BEGIN:VTIMEZONE
TZID:America/Sao_Paulo
BEGIN:STANDARD
TZOFFSETFROM:-0300
TZOFFSETTO:-0300
TZNAME:-03
DTSTART:20210101T000000
END:STANDARD
END:VTIMEZONE
BEGIN:VEVENT
DTSTART;TZID=America/Sao_Paulo:20220705T100000
DTEND;TZID=America/Sao_Paulo:20220705T113000
DTSTAMP:20260423T015943
CREATED:20220610T133928Z
LAST-MODIFIED:20220624T120655Z
UID:86807-1657015200-1657020600@www.craes.org.br
SUMMARY:WEBINAR | Educação e Lifelong Learning: você está preparado?
DESCRIPTION:WEBINAR | Educação e Lifelong Learning: você está preparado? \n\n\n\nLifelong learning é um termo inglês que tem sido um dos temas destaque na atualidade. Em tradução livre\, significa “aprendizado ao longo da vida”\, ou seja\, estender o desenvolvimento de novas habilidades e aquisição de novos conhecimentos para além da formação profissional. Quer saber como a educação contínua pode impactar na sua vida profissional? Então não perca essa oportunidade!  \n\n\n\nEsta Palestra será conduzida pela Adm. Marisa Eboli\, Graduada\, Mestre e Doutora em Administração. Professora de Graduação e Mestrado da FIA. Especialista em Educação Corporativa\, desenvolvimento de pessoas\, gestão por competências\, gestão da cultura e mudança organizacional\, sistemas de educação corporativa e universidades corporativas. O evento será gratuito e acontecerá no dia 05/07 das 10 às 11h30 de forma online\, transmitido pelo YouTube. \n\n\n\nEvento gratuito. Inscrições limitadas!INSCREVA–SE: https://www.sympla.com.br/evento-online/webinar-educacao-e-lifelong-learning-voce-esta-preparado/1586786 \n\n\n\nPúblico-alvo: \n\n\n\nEmpresários\, profissionais e estudantes registrados no Conselho Regional de Administração do Espírito Santo.  \n\n\n\nConteúdo da palestra: \n\n\n\n• Lifelong Learning não é assunto novo• Competências para o Administrador: como desenvolvê-las• Educação e Metodologias de Aprendizagem• Educação: Tecnologia versus Humanidades e Artes• Tendências para o Futuro do Trabalho \n\n\n\nConheça um pouco mais sobre nossa palestrante: \n\n\n\n– Doutora em Administração pela Faculdade de Economia\, Administração e Contabilidade da Universidade de São Paulo – FEA/ USP (1996). \n\n\n\n– Mestre em Administração pela Faculdade de Economia\, Administração e Contabilidade da Universidade de São Paulo – USP (1990). \n\n\n\n– Graduada em Administração de Empresas pela Escola de Administração de Empresas de São Paulo da Fundação Getúlio Vargas – EAESP/FGV (1978). \n\n\n\n– Especialista em educação corporativa\, desenvolvimento de pessoas\, gestão por competências\, gestão da cultura e mudança organizacional\, sistemas de educação corporativa e universidades corporativas. \n\n\n\n-Atualmente é coordenadora de Projetos da Fundação Instituto de Administração e Professora da graduação e do mestrado profissional da Faculdade FIA de Administração de Negócios.
URL:https://www.craes.org.br/evento/webinar-educacao-e-lifelong-learning-voce-esta-preparado/
CATEGORIES:eventos
ATTACH;FMTTYPE=image/jpeg:https://www.craes.org.br/wp-content/uploads/2022/06/Imagem-Divulgacao.jpg
ORGANIZER;CN="CRA-ES":MAILTO:eventos@craes.org.br
END:VEVENT
END:VCALENDAR