BEGIN:VCALENDAR
VERSION:2.0
PRODID:-//CRA-ES - ECPv6.15.20//NONSGML v1.0//EN
CALSCALE:GREGORIAN
METHOD:PUBLISH
X-ORIGINAL-URL:https://www.craes.org.br
X-WR-CALDESC:Eventos para CRA-ES
REFRESH-INTERVAL;VALUE=DURATION:PT1H
X-Robots-Tag:noindex
X-PUBLISHED-TTL:PT1H
BEGIN:VTIMEZONE
TZID:America/Sao_Paulo
BEGIN:STANDARD
TZOFFSETFROM:-0300
TZOFFSETTO:-0300
TZNAME:-03
DTSTART:20210101T000000
END:STANDARD
END:VTIMEZONE
BEGIN:VEVENT
DTSTART;TZID=America/Sao_Paulo:20220531T190000
DTEND;TZID=America/Sao_Paulo:20220531T210000
DTSTAMP:20260423T031730
CREATED:20220524T162831Z
LAST-MODIFIED:20220526T132555Z
UID:86249-1654023600-1654030800@www.craes.org.br
SUMMARY:Cenário de Investimentos 2022
DESCRIPTION:PALESTRA | Cenário para Investimentos em 2022Neste cenário de incerteza que vemos na economia do Brasil e do mundo\, surgem várias questões: como e onde empresas e pessoas podem investir seu capital? Como aproveitar as oportunidades? Quais os riscos? Nesta palestra descreveremos brevemente o atual cenário macroeconômico\, mapeando os principais riscos e oportunidades para investir. Esta Palestra será conduzido por Wagner Varejão\, Economista\, Assessor de Investimentos e sócio da Valor Investimentos. O evento será gratuito e acontecerá no dia 31/05 das 19 às 21h de forma presencial no Auditório do CRA-ES\, respeitando os protocolos de prevenção da COVID-19.Evento Gratuito. Inscrições Limitadas!Público-alvo: Empresários\, profissionais e estudantes registrados no Conselho Regional de Administração do Espírito Santo.   \n\n\n\nConheça um pouco mais sobre nosso palestrante:– Bacharel em Economia pela FUCAPE Business School;– Mestre em Economia pela FUCAPE Business School; – Assessor de Investimentos e Sócio da Valor Investimentos. \n\n\n\nMedidas de prevenção da COVID-191- Todos que quiserem usar máscara podem e devem fazê-lo\, principalmente aqueles com condições de saúde mais vulnerável;2- É obrigatório o uso de máscara para o participante que esteja apresentando ou venha a apresentar sintomas gripais\, para ingresso ou permanência nas dependências do CRA-ES\, para a preservação dos demais;3- Cubra o nariz e a boca com o braço dobrado ou um lenço ao tossir ou espirrar;4- Na recepção\, será borrifado álcool 70° nas mãos e medida a temperatura de todos que entrarem no CRA-ES;5- Busque manter distanciamento físico de 1\,5 m\, no mínimo\, nos assentos do auditório.
URL:https://www.craes.org.br/evento/cenario-de-investimentos-2022/
CATEGORIES:eventos
ATTACH;FMTTYPE=image/png:https://www.craes.org.br/wp-content/uploads/2022/05/15-post1.png
END:VEVENT
END:VCALENDAR