BEGIN:VCALENDAR
VERSION:2.0
PRODID:-//CRA-ES - ECPv6.15.20//NONSGML v1.0//EN
CALSCALE:GREGORIAN
METHOD:PUBLISH
X-WR-CALNAME:CRA-ES
X-ORIGINAL-URL:https://www.craes.org.br
X-WR-CALDESC:Eventos para CRA-ES
REFRESH-INTERVAL;VALUE=DURATION:PT1H
X-Robots-Tag:noindex
X-PUBLISHED-TTL:PT1H
BEGIN:VTIMEZONE
TZID:America/Sao_Paulo
BEGIN:STANDARD
TZOFFSETFROM:-0300
TZOFFSETTO:-0300
TZNAME:-03
DTSTART:20210101T000000
END:STANDARD
END:VTIMEZONE
BEGIN:VEVENT
DTSTART;TZID=America/Sao_Paulo:20220506T190000
DTEND;TZID=America/Sao_Paulo:20220507T080000
DTSTAMP:20260423T043129
CREATED:20220420T165801Z
LAST-MODIFIED:20220420T170728Z
UID:85862-1651863600-1651910400@www.craes.org.br
SUMMARY:PROGRAMA DE CAPACITAÇÃO DE CONSULTORES ONLINE
DESCRIPTION:EDITAL DE PARTICIPAÇÃO | PROGRAMA DE CAPACITAÇÃO DE CONSULTORES ONLINE \n\n\n\n“Clínica de Negócios” \n\n\n\nABRIL/2022 \n\n\n\nPor conta do cenário de afastamento social\, que impactou severamente inúmeros negócios\, o Conselho Regional de Administração do Espírito Santo – CRA-ES\, lançou em maio de 2020\, a campanha “Administrador e Empreendedor: unidos no fortalecimento dos negócios”. O objetivo foi oferecer consultorias empresariais\, gratuitas\, para micro e pequenas empresas\, ofertadas voluntariamente por profissionais de Administração. Até dezembro de 2020\, mais de 60 micros e pequenas empresas se cadastraram e puderam se beneficiar desta ação coordenada pela Câmara Temática de Empreendedorismo e Inspiração do CRA-ES. A ação possibilitou a geração de um modelo único e altamente consolidado de consultoria online\, alicerçado no conceito de esforço colaborativo. Os profissionais da Administração voluntários tiveram a oportunidade de ampliar seu networking e ainda aprender uma nova modalidade de consultoria. \n\n\n\nEm abril de 2021\, a Câmara de Empreendedorismo e Inspiração reiniciou o atendimento online e gratuito às empresas que necessitam recuperar seus negócios através da “Clínica de Negócios” e desde então\, tem realizado capacitações para aprofundamento da metodologia utilizada nos atendimentos online. Após o sucesso da experiência\, será realizada a capacitação gratuita de profissionais da Administração para que possam conhecer a metodologia utilizada neste programa de consultoria já consolidado e bem-sucedido. A capacitação online e gratuita acontecerá nos dias 06 e 07 de maio de 2022 e terá duração de 6 (seis) horas. Ao final\, os participantes receberão o certificado de participação e orientação sobre como poderão atuar na “Clínica de Negócios”\, o programa de consultoria voluntário e online formado por equipes multidisciplinares. \n\n\n\n1. OBJETIVO A capacitação tem como Objetivo proporcionar a aprendizagem de técnicas e ferramentas específicas que contribuirão para as competências e habilidades do profissional no desenvolvimento da atividade de consultoria online. Pretende-se que o profissional\, ao final do curso\, atue ativamente e de forma voluntária no programa “Clínica de Negócios”. \n\n\n\n2. PÚBLICO-ALVO O curso se destina a Profissionais da Administração registrados\, ativos e adimplentes com o CRA-ES e que já atuam com consultoria. Porém\, cabe ressaltar que também é atrativo aos Profissionais da Administração interessados em atuar no ramo de consultoria\, já que terão a oportunidade de conhecer a metodologia e colocá-la em prática posteriormente nas reuniões de consultoria coletiva do programa. \n\n\n\n3. CARGA HORÁRIA\, DIA E HORÁRIO DAS AULAS O curso terá carga horária total de 6h\, divididas em dois encontros online realizados através da plataforma Zoom Meeting\, nos dias 06 e 07 de maio (sexta e sábado)\, sendo sexta das 19 às 21h e sábado\, das 8 às 12h. \n\n\n\n 4. INVESTIMENTO O curso será totalmente gratuito. \n\n\n\n5. DAS VAGAS O curso será realizado para\, no máximo\, 100 (cem) participantes. Caso a procura seja maior\, serão considerados aptos a participarem os primeiros 100 matriculados com registro e adimplentes no CRA-ES. Caso haja desistência\, a mesma deverá ser informada com o prazo mínimo de 24 horas de antecedência. O participante que se matricular e não comparecer\, ficará impossibilitado de participar de novos eventos gratuitos oferecidos pelo Conselho. Caso a demanda seja maior que a esperada\, o CRA-ES poderá verificar a possibilidade de aumentar a quantidade de vagas. \n\n\n\n6. CONTEÚDO PROGRAMÁTICO \n\n\n\nMetodologia de consultoria da Clínica de Negócios;Canvas\, 5W2H\, GUT e ferramentas auxiliares;Processos colaborativos;Dicas comportamentais para consultores;Conceitos básicos de utilização do Zoom;Software de consultoria da Clínica de Negócios.\n\n\n\n 7. FACILITADORES | Adm. Glaucio Gonçalves de Siqueira\, CRA-ES 6915 | Administrador\, consultor de empresas\, com mais de 20 anos de atuação\, CEO do Gestão Super Simples\, diretor consultor do BNI Espírito Santo e coordenador da Câmara Temática de Empreendedorismo e Inspiração do CRA-ES. \n\n\n\nAdm. Rodrigo de Souza Ribeiro\, CRA-ES 9684 | Administrador\, consultor de empresas\, atuando no mercado financeiro como auditor há 10 anos\, pós-graduado em Gestão Empresarial com ênfase em Desenvolvimento de Pessoas e Finanças: Auditoria e Controladoria.  \n\n\n\nParticipação da equipe de consultores tutores atuantes na Clínica de Negócios. \n\n\n\n 8. INSCRIÇÃO E MATRÍCULA \n\n\n\nAs inscrições serão realizadas no período de 12 de abril a 05 de maio de 2022\, através do site do CRA-ES (www.craes.org.br). Realizada a inscrição\, o IAES encaminhará a confirmação\, link do curso e demais informações para o e-mail cadastrado. Inscreva-se aqui: https://www.sympla.com.br/evento-online/programa-de-capacitacao-de-consultores-online/1544841 \n\n\n\n9. CERTIFICADO \n\n\n\nPara fazer jus ao certificado do curso\, que será emitido com a chancela do CRA-ES o participante deverá participar\, obrigatoriamente\, dos dois encontros online. O certificado será enviado para o e-mail cadastrado em até 5 (cinco) dias úteis após o término do curso. \n\n\n\n10. INFORMAÇÕES \n\n\n\nTelefone: (27) 2121-0525 / (27) 99919-1317 \n\n\n\neventos@craes.org.br
URL:https://www.craes.org.br/evento/programa-de-capacitacao-de-consultores-online/
CATEGORIES:Câmara Temática de Empreendedorismo e Inspiração,eventos
ATTACH;FMTTYPE=image/jpeg:https://www.craes.org.br/wp-content/uploads/2022/04/MicrosoftTeams-image-10.jpg
ORGANIZER;CN="CRA-ES":MAILTO:eventos@craes.org.br
END:VEVENT
END:VCALENDAR