BEGIN:VCALENDAR
VERSION:2.0
PRODID:-//CRA-ES - ECPv6.15.20//NONSGML v1.0//EN
CALSCALE:GREGORIAN
METHOD:PUBLISH
X-WR-CALNAME:CRA-ES
X-ORIGINAL-URL:https://www.craes.org.br
X-WR-CALDESC:Eventos para CRA-ES
REFRESH-INTERVAL;VALUE=DURATION:PT1H
X-Robots-Tag:noindex
X-PUBLISHED-TTL:PT1H
BEGIN:VTIMEZONE
TZID:America/Sao_Paulo
BEGIN:STANDARD
TZOFFSETFROM:-0300
TZOFFSETTO:-0300
TZNAME:-03
DTSTART:20230101T000000
END:STANDARD
END:VTIMEZONE
BEGIN:VEVENT
DTSTART;TZID=America/Sao_Paulo:20240313T133000
DTEND;TZID=America/Sao_Paulo:20240313T170000
DTSTAMP:20260421T220705
CREATED:20240305T111700Z
LAST-MODIFIED:20240305T131821Z
UID:99820-1710336600-1710349200@www.craes.org.br
SUMMARY:Mulheres:Inspirando\,Empreendendo e Transformando
DESCRIPTION:O CRA-ES apresenta o evento: “Mulheres: Inspirando\, Empreendendo e Transformando”Além de ouvir as nossas convidadas\, você terá a oportunidade de conhecer outras profissionais com experiências incríveis! Ao final\, teremos sorteio de brindes! \n\n\n\nData: 13 de março de 2024\, das 13h30 às 17hLocal: Sede do CRA-ES (evento presencial)Inscrições: craes.org.br/eventos \n\n\n\nInformações: eventos@craes.org.br ou (27) 99919-1317 \n\n\n\nCelebre conosco o dia Internacional da Mulher!
URL:https://www.sympla.com.br/evento-em-comemoracao-ao-dia-da-mulher__2358132#new_tab
CATEGORIES:eventos
ATTACH;FMTTYPE=image/png:https://www.craes.org.br/wp-content/uploads/2024/03/2024-SITE-EVENTO-MULHER.png
END:VEVENT
BEGIN:VEVENT
DTSTART;TZID=America/Sao_Paulo:20240326T190000
DTEND;TZID=America/Sao_Paulo:20240326T210000
DTSTAMP:20260421T220705
CREATED:20240315T183854Z
LAST-MODIFIED:20240315T183855Z
UID:100072-1711479600-1711486800@www.craes.org.br
SUMMARY:ADM TALKS | O ADMINISTRADOR COMO PERITO JUDICIAL
DESCRIPTION:O CRA-ES apresenta Adm Talks deste mês: “O Administrador como Perito Judicial”.  \n\n\n\nUma roda de conversa dedicada a profissionais e estudantes de Administração para discutirem e explorarem as diversas possibilidades do Profissional da Administração atuando como Perito Judicial.  \n\n\n\nO evento será conduzido por Leanderson Cordeiro\, Administrador e Coordenador da Câmara Temática de Perícia e Administração Judicial. Ele que também atua no CRA-ES como Conselheiro e Representante Institucional 
URL:https://www.sympla.com.br/adm-talks--o-administrador-como-perito-judicial__2374284#new_tab
CATEGORIES:Câmara temática de Perícia e Administração Judicial,eventos
ATTACH;FMTTYPE=image/jpeg:https://www.craes.org.br/wp-content/uploads/2024/03/IMG-20240311-WA0010.jpg
END:VEVENT
END:VCALENDAR