BEGIN:VCALENDAR
VERSION:2.0
PRODID:-//CRA-ES - ECPv6.15.20//NONSGML v1.0//EN
CALSCALE:GREGORIAN
METHOD:PUBLISH
X-WR-CALNAME:CRA-ES
X-ORIGINAL-URL:https://www.craes.org.br
X-WR-CALDESC:Eventos para CRA-ES
REFRESH-INTERVAL;VALUE=DURATION:PT1H
X-Robots-Tag:noindex
X-PUBLISHED-TTL:PT1H
BEGIN:VTIMEZONE
TZID:America/Sao_Paulo
BEGIN:STANDARD
TZOFFSETFROM:-0300
TZOFFSETTO:-0300
TZNAME:-03
DTSTART:20230101T000000
END:STANDARD
END:VTIMEZONE
BEGIN:VEVENT
DTSTART;TZID=America/Sao_Paulo:20240227T190000
DTEND;TZID=America/Sao_Paulo:20240227T210000
DTSTAMP:20260421T231617
CREATED:20240202T194453Z
LAST-MODIFIED:20240222T201142Z
UID:99509-1709060400-1709067600@www.craes.org.br
SUMMARY:EVENTO ADIADO! Adm Talks: O Administrador Como Perito Judicial
DESCRIPTION:Nova data será informada em breve!! O CRA-ES apresenta Adm Talks deste mês: “O Administrador como Perito Judicial”.  \n\n\n\nUma roda de conversa dedicada a profissionais e estudantes de Administração para discutirem e explorarem as diversas possibilidades do Profissional da Administração atuando como Perito Judicial.  \n\n\n\nO evento será conduzido por Leanderson Cordeiro\, Administrador e Coordenador da Câmara Temática de Perícia e Administração Judicial. Ele que também atua no CRA-ES como Conselheiro e Representante Institucional  \n\n\n\nPara quem é este evento: \n\n\n\nEsse evento é aberto a todo o público\, com um foco especial em  profissionais e empresas registrados no CRA-ES que desejam aprimorar seus conhecimentos e trocas de experiências. \n\n\n\nData e Horário:Data: 27 de fevereiro | Horário: 19hLocal: CRA-ES \n\n\n\nCafé de Relacionamento: Antes do evento\, a partir das 18h30\, junte-se a nós para um estimulante café de relacionamento. Esta é a oportunidade perfeita de networking para expandir sua rede de contatos\, conectar-se com outros profissionais e empresários e trocar ideias em um ambiente descontraído. \n\n\n\n Lembre-se de que as vagas são limitadas\, então\, garanta a sua inscrição o quanto antes! Além disso\, ao participar\, você receberá um certificado de participação que pode ser usado como horas complementares para a Atividade Acadêmica Científica Cultural (AACC).
URL:https://www.sympla.com.br/evento/adm-talks-o-administrador-como-perito-judicial/2295582
CATEGORIES:Câmara temática de Perícia e Administração Judicial,eventos
ATTACH;FMTTYPE=image/jpeg:https://www.craes.org.br/wp-content/uploads/2024/02/Imagem-do-WhatsApp-de-2024-02-21-as-16.06.52_4bf9cd7d.jpg
END:VEVENT
END:VCALENDAR