BEGIN:VCALENDAR
VERSION:2.0
PRODID:-//CRA-ES - ECPv6.15.20//NONSGML v1.0//EN
CALSCALE:GREGORIAN
METHOD:PUBLISH
X-ORIGINAL-URL:https://www.craes.org.br
X-WR-CALDESC:Eventos para CRA-ES
REFRESH-INTERVAL;VALUE=DURATION:PT1H
X-Robots-Tag:noindex
X-PUBLISHED-TTL:PT1H
BEGIN:VTIMEZONE
TZID:America/Sao_Paulo
BEGIN:STANDARD
TZOFFSETFROM:-0300
TZOFFSETTO:-0300
TZNAME:-03
DTSTART:20230101T000000
END:STANDARD
END:VTIMEZONE
BEGIN:VEVENT
DTSTART;TZID=America/Sao_Paulo:20240111T130000
DTEND;TZID=America/Sao_Paulo:20240120T220000
DTSTAMP:20260422T003055
CREATED:20230831T130819Z
LAST-MODIFIED:20240102T194208Z
UID:96656-1704978000-1705788000@www.craes.org.br
SUMMARY:20% de Desconto: Formação Intensiva em Practitioner de PNL - "Exclusivo Clube de Descontos CRA-ES"
DESCRIPTION:20% de Desconto: Formação Intensiva em Practitioner de PNL – “Exclusivo Clube de Descontos CRA-ES”\n\n\n\n \n\n\n\n\n \n\n\n\n\n \n\n\n\n\n \n\n\n\n\n \n\n\n\n\n \n															 \n\n\n\n\n\n\n\n\nA PNL é aplicada com sucesso nos programas de autodesenvolvimento\, liderança\, desenvolvimento de equipes\, alinhamento de competência\, comunicação e relacionamentos\, vendas\, atendimento ao cliente\, motivação e solução de conflitos. \n\n\n\n🗓️ 11 à 20 janeiro/2024⏰ Segunda à sexta 13 às 22h⏰ Sábado e domingo 08 às 18h📍 INDESP – Vitória/ES20% de desconto via CRA-ES!Saiba mais\, acesse: https://indesp.com.br/curso/practitioner-em-pnl-formacao-intensivo/Mais informações:www.indesp.com.br(27) 3200 3034 | 99811 6842
URL:https://www.craes.org.br/evento/20-de-desconto-formacao-intensiva-em-practitioner-de-pnl-exclusivo-clube-de-descontos-cra-es/
CATEGORIES:eventos
ATTACH;FMTTYPE=image/png:https://www.craes.org.br/wp-content/uploads/2023/08/pnl-indesp-cra-es.png
END:VEVENT
BEGIN:VEVENT
DTSTART;TZID=America/Sao_Paulo:20240130T190000
DTEND;TZID=America/Sao_Paulo:20240130T210000
DTSTAMP:20260422T003055
CREATED:20240102T174337Z
LAST-MODIFIED:20240105T151247Z
UID:98748-1706641200-1706648400@www.craes.org.br
SUMMARY:Adm Talks | Educação e Planejamento Financeiro: Como atingir seus objetivos e ter mais qualidade de vida
DESCRIPTION:Você está convidado para uma experiência de aprendizado e networking\, apresentada pelo  Conselho Regional de Administração do Espírito Santo (CRA-ES) e ministrada pelo Administrador e Coordenador da Câmara Temática de Educação e Administração Financeira\, Érico Colodeti . Este bate-papo\, intitulado “Educação e Planejamento financeiro: Como Atingir seus objetivos e ter Mais Qualidade de Vida“\, é uma oportunidade para profissionais de Administração e outras áreas e estudantes\, com o objetivo de promover a conscientização sobre práticas financeiras saudáveis em diferentes estágios da vida.. \n\n\n\nPara quem é este evento: \n\n\n\nEsse evento é aberto a todo o público\, com um foco especial em estudantes\, profissionais e empresas registrados no CRA-ES que desejam aprimorar seus conhecimentos e trocas de experiências. \n\n\n\nData e Horário: \n\n\n\nData: 30 de janeiroHorário: 19hLocal: CRA-ES \n\n\n\nCafé de Relacionamento: Antes do evento\, a partir das 18h30\, junte-se a nós para um estimulante café de relacionamento. Esta é a oportunidade perfeita de networking para expandir sua rede de contatos\, conectar-se com outros profissionais e empresários e trocar ideias em um ambiente descontraído. \n\n\n\n Lembre-se de que as vagas são limitadas\, então\, garanta a sua inscrição o quanto antes! Além disso\, ao participar\, você receberá um certificado de participação que pode ser usado como horas complementares para a Atividade Acadêmica Científica Cultural (AACC).
URL:https://www.sympla.com.br/evento/adm-talks-camara-tematica-de-educacao-e-administracao-financeira/2258288
CATEGORIES:Câmara Temática de Educação e Administração Financeira,eventos
ATTACH;FMTTYPE=image/png:https://www.craes.org.br/wp-content/uploads/2024/01/ADM-Talks-Administracao-Financeira-Site.png
END:VEVENT
END:VCALENDAR