BEGIN:VCALENDAR
VERSION:2.0
PRODID:-//CRA-ES - ECPv6.15.20//NONSGML v1.0//EN
CALSCALE:GREGORIAN
METHOD:PUBLISH
X-WR-CALNAME:CRA-ES
X-ORIGINAL-URL:https://www.craes.org.br
X-WR-CALDESC:Eventos para CRA-ES
REFRESH-INTERVAL;VALUE=DURATION:PT1H
X-Robots-Tag:noindex
X-PUBLISHED-TTL:PT1H
BEGIN:VTIMEZONE
TZID:America/Sao_Paulo
BEGIN:STANDARD
TZOFFSETFROM:-0300
TZOFFSETTO:-0300
TZNAME:-03
DTSTART:20220101T000000
END:STANDARD
END:VTIMEZONE
BEGIN:VEVENT
DTSTART;TZID=America/Sao_Paulo:20230911T093000
DTEND;TZID=America/Sao_Paulo:20230911T113000
DTSTAMP:20260422T053543
CREATED:20230905T194124Z
LAST-MODIFIED:20230905T194236Z
UID:96839-1694424600-1694431800@www.craes.org.br
SUMMARY:CRA-ES Receberá Moção de Aplausos na Câmara de Vereadores de Vitória
DESCRIPTION:O CRA-ES (Conselho Regional de Administração do Espírito Santo) terá a honra de receber uma Moção de Aplausos da Câmara de Vereadores de Vitória. Esta distinta homenagem é concedida em reconhecimento aos 58 anos de regulamentação da profissão de Administração e em celebração ao Dia do Profissional da Administração\, comemorado em 09 de setembro. \n\n\n\nOs representantes homenageados do CRA-ES são: \n\n\n\nConselheiro Federal Suplente: Adm. Robson Brandão NevesRepresentante Institucional: Adm. Claudio Roberto Gonçalves de AmorimDiretor Administrativo/Financeiro: Adm. Herickson Rubim Rangel (representado por seu irmão\, Gilber Rubim Rangel)Presidente: Adm. Flávio Celso Santos Rosa (representado por sua filha\, Adm. Amanda Thebaldi Rosa)Diretor Administrativo/Financeiro Adjunto: Adm. Maria Ivonete B. de Sá \n\n\n\nA cerimônia de entrega da Moção de Aplausos ocorrerá no dia 11/09 às 09h30 na Câmara de Vereadores de Vitória\, sendo uma oportunidade para celebrar as realizações significativas do CRA-ES e sua valiosa contribuição para a profissão de Administração.
URL:https://www.craes.org.br/evento/cra-es-recebera-mocao-de-aplausos-na-camara-de-vereadores-de-vitoria/
CATEGORIES:agenda,eventos,Relacionamento Institucional
ATTACH;FMTTYPE=image/png:https://www.craes.org.br/wp-content/uploads/2023/09/HOMENAGEM-CRA-ES.png
END:VEVENT
BEGIN:VEVENT
DTSTART;TZID=America/Sao_Paulo:20230912T090000
DTEND;TZID=America/Sao_Paulo:20230912T170000
DTSTAMP:20260422T053543
CREATED:20230831T170405Z
LAST-MODIFIED:20230901T193058Z
UID:96664-1694509200-1694538000@www.craes.org.br
SUMMARY:Seminário Nacional CFA: O Futuro do Ensino de Administração - Novas DCNs
DESCRIPTION:Vem aí o “Seminário Nacional: O futuro do ensino de Administração – novas DCNs”. \n\n\n\n12.09\, das 09h às 17h. Inscrições necessárias!  \n\n\n\nDisseminar a nova abordagem apresentada pelas DCNs do Curso de Graduação em Administração\, que evidencia as “atividades práticas” no processo de formação dos alunos dos cursos de Bacharelado em Administração. Este é o principal tema que será abordado. Não perca. Evento híbrido\, gratuito e com certificado. \n\n\n\nInscreva-se: CFA.org.br/dcn
URL:https://cfa.org.br/dcn/#new_tab
CATEGORIES:agenda,eventos,Mês da Administração,Sistema CFA/CRAs
ATTACH;FMTTYPE=image/jpeg:https://www.craes.org.br/wp-content/uploads/2023/08/WhatsApp-Image-2023-09-01-at-15.30.31.jpeg
END:VEVENT
BEGIN:VEVENT
DTSTART;TZID=America/Sao_Paulo:20230912T190000
DTEND;TZID=America/Sao_Paulo:20230912T210000
DTSTAMP:20260422T053543
CREATED:20230824T125027Z
LAST-MODIFIED:20230901T151428Z
UID:96243-1694545200-1694552400@www.craes.org.br
SUMMARY:4º ADM Talks | Câmara Temática de Recursos Humanos
DESCRIPTION:Trata-se de um encontro mensal que será promovido pela Câmara de Empreendedorismo e Inspiração\, nesta edição\, em parceria com a Câmara de Recursos Humanos\, para conversas entre profissionais da Administração para atualização sobre gestão\, novos conhecimentos da ciência da Administração e para um momento de networking e descontração.
URL:https://www.sympla.com.br/4-adm-talks--camara-tematica-de-recursos-humanos__2125019#new_tab
CATEGORIES:Câmara Temática de Empreendedorismo e Inspiração,Câmara Temática de Recursos Humanos,eventos,Mês da Administração
ATTACH;FMTTYPE=image/png:https://www.craes.org.br/wp-content/uploads/2023/08/Site-6.png
END:VEVENT
BEGIN:VEVENT
DTSTART;TZID=America/Sao_Paulo:20230913T190000
DTEND;TZID=America/Sao_Paulo:20230913T203000
DTSTAMP:20260422T053543
CREATED:20230825T131420Z
LAST-MODIFIED:20230901T165638Z
UID:96392-1694631600-1694637000@www.craes.org.br
SUMMARY:Palestra | "A Tecnologia e o Impacto na Cultura Organizacional”
DESCRIPTION:Participe da Palestra realizada em parceria do CRA-ES e a FUCAPE\, com a participação da Dra. Flavia de Oliveira Rapozo.
URL:https://www.sympla.com.br/evento/palestra-a-tecnologia-e-o-impacto-na-cultura-organizacional/2133951#new_tab
CATEGORIES:eventos,Mês da Administração
ATTACH;FMTTYPE=image/png:https://www.craes.org.br/wp-content/uploads/2023/08/Site-7.png
END:VEVENT
BEGIN:VEVENT
DTSTART;TZID=America/Sao_Paulo:20230919T110000
DTEND;TZID=America/Sao_Paulo:20230919T120000
DTSTAMP:20260422T053543
CREATED:20230825T132305Z
LAST-MODIFIED:20230904T194206Z
UID:96394-1695121200-1695124800@www.craes.org.br
SUMMARY:Palestra | “Como fugir do estigma negativo em trabalhos remotos?”
DESCRIPTION:Participe da Palestra realizada em parceria do CRA-ES e a FUCAPE\, com a participação do Dr. Bruno Felix Guilherme de Araújo.
URL:https://www.sympla.com.br/evento/palestra-como-fugir-do-estigma-negativo-em-trabalhos-remotos/2133995#new_tab
CATEGORIES:eventos,Mês da Administração
ATTACH;FMTTYPE=image/jpeg:https://www.craes.org.br/wp-content/uploads/2023/08/Site-1.jpg
END:VEVENT
BEGIN:VEVENT
DTSTART;TZID=America/Sao_Paulo:20230919T130000
DTEND;TZID=America/Sao_Paulo:20230920T170000
DTSTAMP:20260422T053543
CREATED:20230831T173143Z
LAST-MODIFIED:20230831T185819Z
UID:96670-1695128400-1695229200@www.craes.org.br
SUMMARY:Jornada Acadêmica CFA
DESCRIPTION:Sim! Ela voltou! A Jornada Acadêmica CFA de administração tem data marcada pessoal. Anote aí: 2 dias de evento com os temas mais atuais para você estudante de administração. Prepare-se para mais uma edição – 19 e 20 de setembro\, ao vivo pelo CFAPlay | Com certificado.Eai\, preparados?
URL:https://cfa.org.br/jornada/
CATEGORIES:eventos,Mês da Administração,Sistema CFA/CRAs
ATTACH;FMTTYPE=image/jpeg:https://www.craes.org.br/wp-content/uploads/2023/08/Insta_1080x1080_STD_Homem-1024x1024-1.jpg
END:VEVENT
BEGIN:VEVENT
DTSTART;TZID=America/Sao_Paulo:20230919T190000
DTEND;TZID=America/Sao_Paulo:20230919T210000
DTSTAMP:20260422T053543
CREATED:20230825T132650Z
LAST-MODIFIED:20230830T193957Z
UID:96397-1695150000-1695157200@www.craes.org.br
SUMMARY:Palestra | “Impactos jurídicos e econômicos da Reforma Tributária”
DESCRIPTION:Participe da Palestra realizada em parceria do CRA-ES e o IBEF-ES\, com as participações da Dra. Efigenia Márlia Brasilino e do Dr. Leonardo Nunes Marques.
URL:https://www.sympla.com.br/evento/palestra-impactos-da-nova-reforma-tributaria/2124909?_gl=1*148gu9e*_ga*NDkyMTY4OTA2LjE2OTExNjg2MzI.*_ga_KXH10SQTZF*MTY5MjI4ODA1OC4xNS4xLjE2OTIyOTIzNzAuMC4wLjA.&#038;share_id=copiarlink#new_tab
CATEGORIES:eventos,Mês da Administração
ATTACH;FMTTYPE=image/png:https://www.craes.org.br/wp-content/uploads/2023/08/ibef.png
END:VEVENT
BEGIN:VEVENT
DTSTART;TZID=America/Sao_Paulo:20230921T183000
DTEND;TZID=America/Sao_Paulo:20230921T220000
DTSTAMP:20260422T053543
CREATED:20230824T124357Z
LAST-MODIFIED:20230831T192327Z
UID:96239-1695321000-1695333600@www.craes.org.br
SUMMARY:Palestra Magna | O Novo Start da Administração: Explorando Novos Horizontes com Tecnologia e Inovação
DESCRIPTION:Participe da Palestra Magna em comemoração ao Dia do Profissional da Administração\, com a participação do empresário Adm. Maely Coelho Filho\, Vice-presidente executivo da MedSênior. 
URL:https://www.sympla.com.br/palestra-magna-o-novo-start-da-administracao-explorando-novos-horizontes-com-tecnologia-e-inovacao__2124589#new_tab
CATEGORIES:agenda,eventos,Mês da Administração
ATTACH;FMTTYPE=image/png:https://www.craes.org.br/wp-content/uploads/2023/08/Palestra-Magna-Site-1.png
END:VEVENT
BEGIN:VEVENT
DTSTART;TZID=America/Sao_Paulo:20230926T190000
DTEND;TZID=America/Sao_Paulo:20230926T220000
DTSTAMP:20260422T053543
CREATED:20230825T133224Z
LAST-MODIFIED:20230906T141320Z
UID:96400-1695754800-1695765600@www.craes.org.br
SUMMARY:Lançamento das Câmaras Temáticas
DESCRIPTION:Lançamento e relançamento de novas frentes de trabalho do CRA-ES com suas Câmaras Temáticas (grupos temáticos)\, compostas por especialistas multidisciplinares\, que têm por finalidade realizar estudos e desenvolver ações com base nas melhores práticas de gestão e desenvolvimento dos profissionais de administração e gerar oportunidades de trabalho para os profissionais da Administração.
URL:https://www.sympla.com.br/evento/lancamento-das-camaras-tematicas/2134203#new_tab
CATEGORIES:agenda,eventos,Mês da Administração
ATTACH;FMTTYPE=image/jpeg:https://www.craes.org.br/wp-content/uploads/2023/08/Site-2.jpg
END:VEVENT
BEGIN:VEVENT
DTSTART;TZID=America/Sao_Paulo:20230927T190000
DTEND;TZID=America/Sao_Paulo:20230930T170000
DTSTAMP:20260422T053543
CREATED:20230825T135059Z
LAST-MODIFIED:20230901T124457Z
UID:96402-1695841200-1696093200@www.craes.org.br
SUMMARY:Programa de Formação de Consultores Online | "Clínica de Negócios"
DESCRIPTION:27/09/23 (quarta) – 19h às 21h30 \n\n\n\n28/09/23 (quinta) – 19h às 21h30 \n\n\n\n29/09/23 (sexta) – 19h às 21h30 \n\n\n\n30/09/23 (sábado) – 9h às 17h
URL:https://www.sympla.com.br/evento-online/programa-de-formacao-de-consultores-online-clinica-de-negocios/2125176?_gl=1*1rpbb0z*_ga*NDkyMTY4OTA2LjE2OTExNjg2MzI.*_ga_KXH10SQTZF*MTY5MjM1NzMwNC4xNy4xLjE2OTIzNTczMTMuMC4wLjA.#new_tab
CATEGORIES:agenda,eventos,Mês da Administração
ATTACH;FMTTYPE=image/png:https://www.craes.org.br/wp-content/uploads/2023/08/Site-5.png
END:VEVENT
BEGIN:VEVENT
DTSTART;TZID=America/Sao_Paulo:20230928T130000
DTEND;TZID=America/Sao_Paulo:20230928T150000
DTSTAMP:20260422T053543
CREATED:20230829T203218Z
LAST-MODIFIED:20230829T203218Z
UID:96641-1695906000-1695913200@www.craes.org.br
SUMMARY:Presidente do CRA-ES participa da palestra "Diálogos que Impulsionam"
DESCRIPTION:Data: 28/09/23\n\n\n\nHorário: 13h\n\n\n\nLocal: Vitória Grand Hall\n\n\n\nPalestra: EducarES | Palestra “Diálogos que Impulsionam”\n\n\n\nRepresentante do CRA-ES: Presidente: Adm. Flávio Celso Santos Rosa e os administradores Pedro Prêmoli\, Marcela Haase\, Fernanda Manso e Rodrigo Federman
URL:https://www.craes.org.br/evento/presidente-do-cra-es-participa-da-palestra-dialogos-que-impulsionam/
CATEGORIES:agenda,eventos
END:VEVENT
END:VCALENDAR