BEGIN:VCALENDAR
VERSION:2.0
PRODID:-//CRA-ES - ECPv6.15.20//NONSGML v1.0//EN
CALSCALE:GREGORIAN
METHOD:PUBLISH
X-ORIGINAL-URL:https://www.craes.org.br
X-WR-CALDESC:Eventos para CRA-ES
REFRESH-INTERVAL;VALUE=DURATION:PT1H
X-Robots-Tag:noindex
X-PUBLISHED-TTL:PT1H
BEGIN:VTIMEZONE
TZID:America/Sao_Paulo
BEGIN:STANDARD
TZOFFSETFROM:-0300
TZOFFSETTO:-0300
TZNAME:-03
DTSTART:20210101T000000
END:STANDARD
END:VTIMEZONE
BEGIN:VEVENT
DTSTART;TZID=America/Sao_Paulo:20221122T190000
DTEND;TZID=America/Sao_Paulo:20221122T193000
DTSTAMP:20260422T195853
CREATED:20221108T162334Z
LAST-MODIFIED:20221108T162440Z
UID:91198-1669143600-1669145400@www.craes.org.br
SUMMARY:Planejamento Patrimonial e Sucessório: A importância e as melhores práticas
DESCRIPTION:No dia 22 de novembro\, às 19 horas\, acontece o evento “Planejamento Patrimonial e Sucessório: a importância e as melhores práticas”.O evento tem como propósito apresentar a importância de planejar as sucessões e não deixar que elas ocorram a partir de um evento. Serão detalhadas as noções gerais de como realizar o planejamento e mostrar\, na prática\, como se utilizam os instrumentos financeiros\, visando a operacionalização do planejamento.Destinado aos membros de Empresas Familiares\, Contadores\, Gestores de Investimentos e Patrimônio e demais interessados a Proteção e Sucessão do Patrimônio\, tem como objetivo levar às empresas associadas e aos empresários\, informações que lhes permitam proteger os ativos familiares e planejar as regras de gestão corporativa dos sucessores\, de modo a garantir perenidade ao seu negócio.Nesse contexto\, fica claro que a importância do “Planejamento Patrimonial e Sucessório” é na economia\, ao evitar a burocracia com tributos\, taxas e gastos com inventário\, seja ele extrajudicial ou judicial\, além da redução de custos fiscais\, preservação dos bens\, entre outros.Conteúdo programado:– Uma visão ampla da sucessão (evento ou processo);– A sucessão envolvendo empresários e seus negócios;– Existe como blindar o patrimônio?– As razões fiscais para o planejamento (economia tributária);– Elementos financeiros no planejamento: planos de previdências; fundos; trusts.Palestrantes Confirmados:Ricardo Brum (Sócio da Brum Kuster Marques & Fragoso Advogados)Caio de Souza (Sócio da Elev Investimentos)Data: 22/11/2022Horário: 19hTema: Planejamento Patrimonial e Sucessório: a importância e as melhores práticas.Acesse a nossa política de privacidade: https://brumkuster.com.br/politica-de-privacidade/
URL:https://www.sympla.com.br/evento/planejamento-patrimonial-e-sucessorio-a-importancia-e-as-melhores-praticas/1769162#new_tab
CATEGORIES:eventos
ATTACH;FMTTYPE=image/png:https://www.craes.org.br/wp-content/uploads/2022/11/evento.png
END:VEVENT
END:VCALENDAR