BEGIN:VCALENDAR
VERSION:2.0
PRODID:-//CRA-ES - ECPv6.15.20//NONSGML v1.0//EN
CALSCALE:GREGORIAN
METHOD:PUBLISH
X-WR-CALNAME:CRA-ES
X-ORIGINAL-URL:https://www.craes.org.br
X-WR-CALDESC:Eventos para CRA-ES
REFRESH-INTERVAL;VALUE=DURATION:PT1H
X-Robots-Tag:noindex
X-PUBLISHED-TTL:PT1H
BEGIN:VTIMEZONE
TZID:America/Sao_Paulo
BEGIN:STANDARD
TZOFFSETFROM:-0300
TZOFFSETTO:-0300
TZNAME:-03
DTSTART:20210101T000000
END:STANDARD
END:VTIMEZONE
BEGIN:VEVENT
DTSTART;TZID=America/Sao_Paulo:20220603T000000
DTEND;TZID=America/Sao_Paulo:20220603T235959
DTSTAMP:20260423T015839
CREATED:20220510T140902Z
LAST-MODIFIED:20220519T203556Z
UID:86121-1654214400-1654300799@www.craes.org.br
SUMMARY:ERPA 2022
DESCRIPTION:O Encontro Regional de Profissionais de Administração 2022 acontecerá no dia 03 de junho\, em Foz do Iguaçu\, no Paraná. O ERPA contará com a presença de palestrantes nacionais e internacionais para discutirem os temas de Gestão\, Inovação e Sustentabilidade. \n\n\n\n \n\n\n\nINSCRIÇÕES: https://www.erpasul2022.com.br/  \n\n\n\n02/06/2022 – Quinta-Feira20:00 – 00:00Jantar por adesão\n\n\n\n 03/06/2022 – Sexta-Feira08:00 – 08:30Abertura Oficial08:30 – 10:00Painel de aberturaFrancisco Lacerda Brasileiro – PresencialAlm. Anatalicio Risden Junior – Diretor-Geral ITAIPUModerador(es):Adm. Mauro Kreuz Presidente Do Cfa10:00 – 10:30Coffee-Break10:30 – 12:001º PAINEL – GESTÃO E INOVAÇÃOAdm. Jorge Audy – PUC-RS – PRESENCIALDiego Brites Ramos – ONLINE12:00 – 13:30Almoço13:30 – 17:00Apresentação de trabalhos: Somente ONLINE!14:00 – 15:302º PAINEL – SUSTENTABILIDADELídia Rosa Saldivar Salinas (CAPY) PRESENCIALMarc Allan Weiss – ONLINEFabricio Baron Mussi – ITAIPU BINACIONAL – PRESENCIAL15:30 – 17:453º PAINEL – LIÇÕES DA PANDEMIAOscar Malfitano Cayuela – PRESENCIALDaniel Reboredo – PRESENCIALRosa Maria Jeronymo Lima – PRESENCIAL17:45 – 18:15Network / Coffee-Break18:15 – 19:30Palestra de EncerramentoAdm. Mauro Kreuz (Presidente CFA) -PRESENCIAL19:30 – 00:00Jantar de Encerramento\n\n\n\n 04/06/2022 – Sábado08:00 – 17:00Evento Interno – CFA e CRAs PR/RS/SCReunião de Representantes da Região SulVisita Técnica – Itaipu Binacional por adesão
URL:https://www.craes.org.br/evento/erpa-2022/
CATEGORIES:eventos
ATTACH;FMTTYPE=image/png:https://www.craes.org.br/wp-content/uploads/2022/05/ERPA-AGENDA-SITE.png
END:VEVENT
BEGIN:VEVENT
DTSTART;TZID=America/Sao_Paulo:20220610T000000
DTEND;TZID=America/Sao_Paulo:20220612T235959
DTSTAMP:20260423T015839
CREATED:20220506T125038Z
LAST-MODIFIED:20220506T125039Z
UID:86083-1654819200-1655078399@www.craes.org.br
SUMMARY:Hackathon Cidades Sustentáveis
DESCRIPTION:O evento é uma maratona de inovação com o objetivo de incentivar a criação de soluções inovadoras para o desenvolvimento de cidades sustentáveis\, tendo como base para os desafios o Índice de Governança Municipal IGM-CFA e  as diretrizes da ODS 11 – Cidades e Comunidades Sustentáveis da ONU. \n\n\n\nEsta edição vai reunir profissionais e acadêmicos das mais diferentes áreas de mercado e de todo país\, em uma jornada de 3 dias online\, com uma programação intensa de workshops e mentorias destinados a apoiar as equipes a desenvolverem soluções inovadoras para os desafios apresentados. \n\n\n\nÉ uma verdadeira imersão nos conceitos de inovação\, empreendedorismo e trabalho em equipe que desperta o participante para ser um intraempreendedor em qualquer ambiente. O Hackathon Cidades Sustentáveis não possui fins lucrativos\, e é uma realização do CFA – Conselho Federal de Administração\, da Comissão Especial ADMMulher e dos Conselhos Regionais da Bahia\, Ceará e Rio Grande do Norte. \n\n\n\nEvento gratuito\, totalmente online para todo o Brasil. \n\n\n\nPremiação total de R$ 21Mil para as equipes vencedoras  \n\n\n\nAproveite essa oportunidade!   \n\n\n\n​Inscrições até 02/06 no link: https://bit.ly/inscricao-hack-cfa-22 \n\n\n\nSaiba mais do evento: https://hackathon.cfa.org.br/Siga o evento no Instagram: @hackathoncidadesustentaveis
URL:https://www.craes.org.br/evento/hackathon-cidades-sustentaveis/
CATEGORIES:eventos
ATTACH;FMTTYPE=image/png:https://www.craes.org.br/wp-content/uploads/2022/05/Arte_hackathon-geral_1080x1080.png
END:VEVENT
BEGIN:VEVENT
DTSTART;TZID=America/Sao_Paulo:20220620T080000
DTEND;TZID=America/Sao_Paulo:20220620T170000
DTSTAMP:20260423T015839
CREATED:20220615T182415Z
LAST-MODIFIED:20220615T182806Z
UID:86938-1655712000-1655744400@www.craes.org.br
SUMMARY:Ranking das Maiores e Melhores Empresas no Espírito Santo
DESCRIPTION:Participe do Ranking das Maiores e Melhores Empresas no Espírito Santo!\nO prazo de envio dos Balanços Patrimoniais e DRE´s vai até dia 20/06\, pelo email 200maiores@findes.org.br \n \n*A participação nos rankings é totalmente gratuita.* As empresas que participarem receberão um relatório com análise comparativa de diversos indicadores com a média de seu setor e a média do conjunto das empresas participantes. \n \n?Mais informações: 27 99721-9452. \n \n 
URL:https://www.craes.org.br/evento/ranking-das-maiores-e-melhores-empresas-no-espirito-santo/
CATEGORIES:eventos
ATTACH;FMTTYPE=image/jpeg:https://www.craes.org.br/wp-content/uploads/2022/06/Imagem1.jpg
END:VEVENT
BEGIN:VEVENT
DTSTART;TZID=America/Sao_Paulo:20220625T083000
DTEND;TZID=America/Sao_Paulo:20220625T113000
DTSTAMP:20260423T015839
CREATED:20220610T131736Z
LAST-MODIFIED:20220610T131736Z
UID:86801-1656145800-1656156600@www.craes.org.br
SUMMARY:EPROCAD 2022
DESCRIPTION:O Conselho Regional de Administração de Goiás com apoio da Comissão de FormaçãoProfissional do CRA-GO\, UNIALFA\, UEG\, UNIEVANGÉLICA\, CESUT\, FAP e CRA-MT\,promoverá o 18º Encontro de Professores e Coordenadores do Cursos de Administração(Eprocad). O encontro terá como tema principal “Desafios no Ensino de Administração Pós Pandemia: como transformar a sala de aula num ambiente dinâmico\, interessante e inovador”.O evento acontece no formato 100% on-line e possui certificado.No dia 25 de junho\, o encontro ocorre das 08h30min às 11h30min no canal oficial doCRA-GO no Youtube. As inscrições são gratuitas e podem ser feitas até o dia 23 de junho nosite: https://www.crago.org.br/sistemas/controleEventos/inscricao.phpSegundo o Presidente do CRA-GO\, Adm. Samuel Albernaz o EPROCAD 2022\,objetiva debater com diretores\, coordenadores e professores dos cursos de Administraçãometodologias que visem a melhoria da qualidade do ensino de Administração\, no Brasil.“Aliada às novas demandas impostas pelo mundo do trabalho e também pelas recémpublicadas Diretrizes Curriculares Nacionais de Educação Básica (DCNs) do curso deAdministração\, que foi pensado o EPROCAD 2022”\, destacou Albernaz.Devido a necessidade de uma maior aproximação entre o CRA-GO e as Instituições deEnsino Superior que ministram cursos de graduação na área da Administração surgiu aComissão de Formação Profissional do CRA-GO\, tendo como principal objetivo assessorar oConselho em seus órgãos constituintes nos assuntos referentes ao ensino da Administração.Programação EPROCAD:08h30min – AberturaAdm. Samuel Albernaz Presidente do CRA-GO08h45min – Conferência“Implantação das Novas Diretrizes Curriculares”Profº Adm. Mauro dos S. Leônidas – Vice Diretor CFP/CFAMediador: Reitor da UNIALFA\, Prof. Carlos Eduardo Trindade \n\n\n\n09h40min – Debates10h00 – Mega Palestra: “Como Elaborar um PPC Inovador” | Profª Drª Cristiane M. R. Bernades – Pró-reitora Acadêmica da UniEVANGÉLICAMediador: Reitor da UEG\, Prof. Antonio Cruvinel Borges Neto10h45min – Debates11h30min – Encerramento \n\n\n\n \n\n\n\nINSCREVA-SE:  https://www.crago.org.br/sistemas/controleEventos/inscricao.php
URL:https://www.craes.org.br/evento/eprocad-2022/
CATEGORIES:eventos
ATTACH;FMTTYPE=image/png:https://www.craes.org.br/wp-content/uploads/2022/06/Banner-18o-EPROCAD-1.png
END:VEVENT
END:VCALENDAR