BEGIN:VCALENDAR
VERSION:2.0
PRODID:-//CRA-ES - ECPv6.15.20//NONSGML v1.0//EN
CALSCALE:GREGORIAN
METHOD:PUBLISH
X-ORIGINAL-URL:https://www.craes.org.br
X-WR-CALDESC:Eventos para CRA-ES
REFRESH-INTERVAL;VALUE=DURATION:PT1H
X-Robots-Tag:noindex
X-PUBLISHED-TTL:PT1H
BEGIN:VTIMEZONE
TZID:America/Sao_Paulo
BEGIN:STANDARD
TZOFFSETFROM:-0300
TZOFFSETTO:-0300
TZNAME:-03
DTSTART:20210101T000000
END:STANDARD
END:VTIMEZONE
BEGIN:VEVENT
DTSTART;TZID=America/Sao_Paulo:20220427T090000
DTEND;TZID=America/Sao_Paulo:20220427T120000
DTSTAMP:20260423T043058
CREATED:20220414T125643Z
LAST-MODIFIED:20220420T164223Z
UID:85659-1651050000-1651060800@www.craes.org.br
SUMMARY:WORKSHOP | De volta ao presencial: como gerenciar as emoções e controlar a ansiedade?
DESCRIPTION:WORKSHOP | DE VOLTA AO PRESENCIAL: COMO GERENCIAR AS EMOÇÕES E CONTROLAR A ANSIEDADE? \n\n\n\nVocê já percebeu como o nosso estado emocional interfere na qualidade da nossa comunicação? Você sabe ter controle emocional diante de um desafio\, uma crítica ou uma conversa agressiva? Vamos aprender como a PNL pode nos ajudar a gerenciar as emoções e construir relacionamentos saudáveis.Este Workshop será conduzido pela Luíza Lopes\, educadora graduada em Pedagogia (PUC-MG). O evento será gratuito e acontecerá no dia 27/04 de 09:00 às 12:00h de forma presencial no Auditório do CRA-ES\, respeitando os protocolos de prevenção da COVID-19.Evento Gratuito. Inscrições Limitadas! \n\n\n\nInscreva-se aqui: https://www.sympla.com.br/evento/workshop-de-volta-ao-presencial-como-gerenciar-as-emocoes-e-controlar-a-ansiedade/1538570Público-alvo: Profissionais e estudantes registrados no Conselho Regional de Administração do Espírito Santo.  \n\n\n\nConheça um pouco mais sobre nossa palestrante:-Educadora\, graduada em Pedagogia (PUC-MG);-Master Trainer em Programação Neurolinguística com certificação Internacional;-Participou da Formação “O Novo Código” – Movendo o Mundo\, pelo CGI Worldwide Corporation & -Quantum Leap Inc. em Salvador\, com o co-criador da PNL John Grinder;-Master Wizzard Avatar (Sttar Edge – EUA);-Accessing Personal Genius\, pela International Society of Neuro-Semantics;-Presence Coaching\, com Robert Diltis e Richard Moss;-Liderança\, Inteligência Interpessoal e Comunicação Eficaz\, pela The Napoleon Hill Foundation;-Constelação Familiar\, ministrado por CORNÉLIA BENESCH BONENKAMP;-Positive Psychology – Basic Trainer\, com Dr. Philip Streit.
URL:https://www.craes.org.br/evento/workshop-de-volta-ao-presencial-como-gerenciar-as-emocoes-e-controlar-a-ansiedade/
LOCATION:CRA-ES\, Rua Aluísio Simões\, 172\, Bento Ferreira\, Vitória\, Espírito Santo\, 29050-632\, Brasil
CATEGORIES:eventos
ATTACH;FMTTYPE=image/jpeg:https://www.craes.org.br/wp-content/uploads/2022/04/WhatsApp-Image-2022-04-19-at-12.42.37.jpeg
END:VEVENT
END:VCALENDAR