BEGIN:VCALENDAR
VERSION:2.0
PRODID:-//CRA-ES - ECPv6.15.20//NONSGML v1.0//EN
CALSCALE:GREGORIAN
METHOD:PUBLISH
X-WR-CALNAME:CRA-ES
X-ORIGINAL-URL:https://www.craes.org.br
X-WR-CALDESC:Eventos para CRA-ES
REFRESH-INTERVAL;VALUE=DURATION:PT1H
X-Robots-Tag:noindex
X-PUBLISHED-TTL:PT1H
BEGIN:VTIMEZONE
TZID:America/Sao_Paulo
BEGIN:STANDARD
TZOFFSETFROM:-0300
TZOFFSETTO:-0300
TZNAME:-03
DTSTART:20230101T000000
END:STANDARD
END:VTIMEZONE
BEGIN:VEVENT
DTSTART;TZID=America/Sao_Paulo:20240826T133000
DTEND;TZID=America/Sao_Paulo:20240826T143000
DTSTAMP:20260421T000137
CREATED:20240905T173433Z
LAST-MODIFIED:20240912T195753Z
UID:103715-1724679000-1724682600@www.craes.org.br
SUMMARY:CRA-ES Visita CEEFMTI Nair Miranda
DESCRIPTION:No dia 26 de agosto\, às 13h30\, o CRA-ES será representado pelo Adm. Rodrigo Federman no evento de apresentação dos projetos da turma do Curso Técnico em Administração da CEEFMTI Nair Miranda. A presença do CRA-ES destaca o Relacionamento Institucional e Acadêmico.
URL:https://www.craes.org.br/evento/cra-es-visita-ceefmti-nair-miranda/
CATEGORIES:agenda,Relacionamento Acadêmico
ATTACH;FMTTYPE=image/png:https://www.craes.org.br/wp-content/uploads/2022/03/relacionamento-acadEmico-SITE-CRA-ES.png
END:VEVENT
END:VCALENDAR